BEGIN:VCALENDAR
VERSION:2.0
PRODID:-//Cincy Jewfolk - ECPv6.15.20//NONSGML v1.0//EN
CALSCALE:GREGORIAN
METHOD:PUBLISH
X-ORIGINAL-URL:https://cincyjewfolk.com
X-WR-CALDESC:Events for Cincy Jewfolk
REFRESH-INTERVAL;VALUE=DURATION:PT1H
X-Robots-Tag:noindex
X-PUBLISHED-TTL:PT1H
BEGIN:VTIMEZONE
TZID:America/Detroit
BEGIN:DAYLIGHT
TZOFFSETFROM:-0500
TZOFFSETTO:-0400
TZNAME:EDT
DTSTART:20240310T070000
END:DAYLIGHT
BEGIN:STANDARD
TZOFFSETFROM:-0400
TZOFFSETTO:-0500
TZNAME:EST
DTSTART:20241103T060000
END:STANDARD
BEGIN:DAYLIGHT
TZOFFSETFROM:-0500
TZOFFSETTO:-0400
TZNAME:EDT
DTSTART:20250309T070000
END:DAYLIGHT
BEGIN:STANDARD
TZOFFSETFROM:-0400
TZOFFSETTO:-0500
TZNAME:EST
DTSTART:20251102T060000
END:STANDARD
BEGIN:DAYLIGHT
TZOFFSETFROM:-0500
TZOFFSETTO:-0400
TZNAME:EDT
DTSTART:20260308T070000
END:DAYLIGHT
BEGIN:STANDARD
TZOFFSETFROM:-0400
TZOFFSETTO:-0500
TZNAME:EST
DTSTART:20261101T060000
END:STANDARD
BEGIN:DAYLIGHT
TZOFFSETFROM:-0500
TZOFFSETTO:-0400
TZNAME:EDT
DTSTART:20270314T070000
END:DAYLIGHT
BEGIN:STANDARD
TZOFFSETFROM:-0400
TZOFFSETTO:-0500
TZNAME:EST
DTSTART:20271107T060000
END:STANDARD
BEGIN:DAYLIGHT
TZOFFSETFROM:-0500
TZOFFSETTO:-0400
TZNAME:EDT
DTSTART:20280312T070000
END:DAYLIGHT
BEGIN:STANDARD
TZOFFSETFROM:-0400
TZOFFSETTO:-0500
TZNAME:EST
DTSTART:20281105T060000
END:STANDARD
END:VTIMEZONE
BEGIN:VEVENT
DTSTART;TZID=America/Detroit:20251028T000000
DTEND;TZID=America/Detroit:20271231T000000
DTSTAMP:20260425T081742
CREATED:20251125T145146Z
LAST-MODIFIED:20260425T115048Z
UID:10002415-1761609600-1830211200@cincyjewfolk.com
SUMMARY:Welcome Your New Baby to the Community!
DESCRIPTION:Did you recently welcome a new baby into your family through birth\, adoption\,\nor surrogacy? Mazel Tov! We’d love to send you a care package to officially\nwelcome your new little one into the Cincinnati Jewish Community. Sign up to\nreceive some goodies to make your transition a little easier\, get FREE PJ\nLibrary books delivered to your door monthly\, and to learn about programs\nspecifically for your growing family. \nView event on Jlive: https://jlive.app/events/13447
URL:https://cincyjewfolk.com/event/welcome-your-new-baby-to-the-community/
LOCATION:Ohio
CATEGORIES:Families,Family,Young Children
ATTACH;FMTTYPE=image/png:https://cincyjewfolk.com/wp-content/uploads/sites/2/2025/11/Jlive_Event_Hero_Template_2-rwc0BV.png
ORGANIZER;CN="PJ Library | Mayerson JCC":MAILTO:mphillips@mayersonjcc.org
END:VEVENT
BEGIN:VEVENT
DTSTART;TZID=America/Detroit:20260823T180000
DTEND;TZID=America/Detroit:20260823T193000
DTSTAMP:20260425T081742
CREATED:20260424T155110Z
LAST-MODIFIED:20260425T115110Z
UID:10003405-1787508000-1787513400@cincyjewfolk.com
SUMMARY:Back to School at the Pool
DESCRIPTION:School is back in session but the fun doesn’t have to stop yet! Get together\nwith your friends at the pool\, enjoy a kosher BBQ dinner and a night swim! \nView event on Jlive: https://jlive.app/events/15454
URL:https://cincyjewfolk.com/event/back-to-school-at-the-pool/
LOCATION:Mayerson JCC 8485 Ridge Ave\, Cincinnati\, Ridge Avenue 8485\, Cincinnati\, Ohio\, 45236\, United States
CATEGORIES:Children,Families,Family,Food Provided,General,Grandparents,Kosher,Outdoors,Parking (free),Wheelchair Accessible,Young Children
ATTACH;FMTTYPE=image/jpeg:https://cincyjewfolk.com/wp-content/uploads/sites/2/2026/04/26_SUMMER_JLive_960x600ph-5kFsHs.jpg
ORGANIZER;CN="PJ Library | Mayerson JCC":MAILTO:mphillips@mayersonjcc.org
GEO:39.2158032;-84.4287563
X-APPLE-STRUCTURED-LOCATION;VALUE=URI;X-ADDRESS=Mayerson JCC 8485 Ridge Ave Cincinnati Ridge Avenue 8485 Cincinnati Ohio 45236 United States;X-APPLE-RADIUS=500;X-TITLE=Ridge Avenue 8485:geo:-84.4287563,39.2158032
END:VEVENT
END:VCALENDAR