BEGIN:VCALENDAR
VERSION:2.0
PRODID:-//Cincy Jewfolk - ECPv6.15.20//NONSGML v1.0//EN
CALSCALE:GREGORIAN
METHOD:PUBLISH
X-WR-CALNAME:Cincy Jewfolk
X-ORIGINAL-URL:https://cincyjewfolk.com
X-WR-CALDESC:Events for Cincy Jewfolk
REFRESH-INTERVAL;VALUE=DURATION:PT1H
X-Robots-Tag:noindex
X-PUBLISHED-TTL:PT1H
BEGIN:VTIMEZONE
TZID:America/Detroit
BEGIN:DAYLIGHT
TZOFFSETFROM:-0500
TZOFFSETTO:-0400
TZNAME:EDT
DTSTART:20250309T070000
END:DAYLIGHT
BEGIN:STANDARD
TZOFFSETFROM:-0400
TZOFFSETTO:-0500
TZNAME:EST
DTSTART:20251102T060000
END:STANDARD
BEGIN:DAYLIGHT
TZOFFSETFROM:-0500
TZOFFSETTO:-0400
TZNAME:EDT
DTSTART:20260308T070000
END:DAYLIGHT
BEGIN:STANDARD
TZOFFSETFROM:-0400
TZOFFSETTO:-0500
TZNAME:EST
DTSTART:20261101T060000
END:STANDARD
BEGIN:DAYLIGHT
TZOFFSETFROM:-0500
TZOFFSETTO:-0400
TZNAME:EDT
DTSTART:20270314T070000
END:DAYLIGHT
BEGIN:STANDARD
TZOFFSETFROM:-0400
TZOFFSETTO:-0500
TZNAME:EST
DTSTART:20271107T060000
END:STANDARD
END:VTIMEZONE
BEGIN:VEVENT
DTSTART;TZID=America/Detroit:20260601T191000
DTEND;TZID=America/Detroit:20260601T220000
DTSTAMP:20260421T050605
CREATED:20260415T145107Z
LAST-MODIFIED:20260421T090555Z
UID:10003348-1780341000-1780351200@cincyjewfolk.com
SUMMARY:Jewish Community Night at the Reds
DESCRIPTION:Kick off summer with the entire Jewish community at Great American Ball Park\nfor Jewish Community Night! We’ll have an entire section reserved for you to\nsocialize and meet new friends\, all while enjoying the fun of the ballpark. \nThe first 500 people to buy tickets will receive a kosher dinner and a special\nt-shirt giveaway. \n_Kosher dinner sponsored by the Jewish Foundation of Cincinnati  _ \nSponsored by:\n  * Steiner Family Foundation\n  * Pelberg Family \nView event on Jlive: https://jlive.app/events/14439
URL:https://cincyjewfolk.com/event/jewish-community-night-at-the-reds-3/
LOCATION:Great American Ball Park 100 Joe Nuxhall Wy\, Cincinnati
CATEGORIES:All Ages,Kosher Food,Outdoors,Parking ($),Sports & Fitness
ATTACH;FMTTYPE=image/jpeg:https://cincyjewfolk.com/wp-content/uploads/sites/2/2026/04/26_Reds_Community_Night_Jlive_Header_960x600-nESMJ6.jpg
ORGANIZER;CN="Mayerson JCC":MAILTO:rlefton@mayersonjcc.org
END:VEVENT
BEGIN:VEVENT
DTSTART;TZID=America/Detroit:20260602T080000
DTEND;TZID=America/Detroit:20260602T150000
DTSTAMP:20260421T050605
CREATED:20260304T152151Z
LAST-MODIFIED:20260421T090555Z
UID:10003069-1780387200-1780412400@cincyjewfolk.com
SUMMARY:AJC Global Forum 2026
DESCRIPTION:Join American Jewish Committee (AJC) and over two thousand committed activists\nat the premier global Jewish advocacy conference of the year. At AJC Global\nForum\, we’ll tackle the critical issues facing the Jewish people\, Israel\,\nAmerica\, and the world. Our program will feature:\n  * Large plenary sessions with headline speakers.\n  * Smaller breakout sessions designed to explore the key political\, strategic\, and social concerns affecting Israel and the global Jewish community.\n  * Exclusive opportunities to engage with diplomats\, decision makers\, interfaith partners\, community leaders\, and more. \nView event on Jlive: https://jlive.app/events/14354
URL:https://cincyjewfolk.com/event/ajc-global-forum-2026-2/
LOCATION:Washington \, Washington
CATEGORIES:Adults,Advocacy,After October 7,Arrival / Check In,Beverages (non alcoholic),Closed Captions,Cocktails and Drinks,College Students,Educational,Family,Grandparents,Israel,Kosher Food,Leadership,Older Adults,Special Guest,Vegetarian Friendly,Wheelchair Accessible,WiFi,Young Adults
ATTACH;FMTTYPE=image/png:https://cincyjewfolk.com/wp-content/uploads/sites/2/2024/07/CNRO_Jlive-2025_GloFo_Picture_-_GRFX-2017-zGo2Xm.tmp_.png
ORGANIZER;CN="American Jewish Committee (AJC) Cincinnati":MAILTO:cincinnati@ajc.org
END:VEVENT
END:VCALENDAR