BEGIN:VCALENDAR
VERSION:2.0
PRODID:-//Cincy Jewfolk - ECPv6.15.20//NONSGML v1.0//EN
CALSCALE:GREGORIAN
METHOD:PUBLISH
X-ORIGINAL-URL:https://cincyjewfolk.com
X-WR-CALDESC:Events for Cincy Jewfolk
REFRESH-INTERVAL;VALUE=DURATION:PT1H
X-Robots-Tag:noindex
X-PUBLISHED-TTL:PT1H
BEGIN:VTIMEZONE
TZID:America/Detroit
BEGIN:DAYLIGHT
TZOFFSETFROM:-0500
TZOFFSETTO:-0400
TZNAME:EDT
DTSTART:20240310T070000
END:DAYLIGHT
BEGIN:STANDARD
TZOFFSETFROM:-0400
TZOFFSETTO:-0500
TZNAME:EST
DTSTART:20241103T060000
END:STANDARD
BEGIN:DAYLIGHT
TZOFFSETFROM:-0500
TZOFFSETTO:-0400
TZNAME:EDT
DTSTART:20250309T070000
END:DAYLIGHT
BEGIN:STANDARD
TZOFFSETFROM:-0400
TZOFFSETTO:-0500
TZNAME:EST
DTSTART:20251102T060000
END:STANDARD
BEGIN:DAYLIGHT
TZOFFSETFROM:-0500
TZOFFSETTO:-0400
TZNAME:EDT
DTSTART:20260308T070000
END:DAYLIGHT
BEGIN:STANDARD
TZOFFSETFROM:-0400
TZOFFSETTO:-0500
TZNAME:EST
DTSTART:20261101T060000
END:STANDARD
BEGIN:DAYLIGHT
TZOFFSETFROM:-0500
TZOFFSETTO:-0400
TZNAME:EDT
DTSTART:20270314T070000
END:DAYLIGHT
BEGIN:STANDARD
TZOFFSETFROM:-0400
TZOFFSETTO:-0500
TZNAME:EST
DTSTART:20271107T060000
END:STANDARD
END:VTIMEZONE
BEGIN:VEVENT
DTSTART;TZID=America/Detroit:20250820T000000
DTEND;TZID=America/Detroit:20260522T000000
DTSTAMP:20260419T101252
CREATED:20250714T180721Z
LAST-MODIFIED:20260419T140511Z
UID:10001700-1755648000-1779408000@cincyjewfolk.com
SUMMARY:After Crew 25-26 Enrollment Application
DESCRIPTION:After Crew at the J keeps children active and engaged long after the bell\nrings. Kids enjoy fun-filled afternoons with time to do homework and eat a\nsnack. \nThis enrollment application does NOT guarantee your spot for the school year.\nEnrollments are processed on a first-come first served basis. A member of JCC\nstaff will reach out to confirm your application. \nView event on Jlive: https://jlive.app/events/10287
URL:https://cincyjewfolk.com/event/after-crew-25-26-enrollment-application-2/
LOCATION:Mayerson JCC 8485 Ridge Ave\, Cincinnati\, Ridge Avenue 8485\, Cincinnati\, Ohio\, 45236\, United States
CATEGORIES:Camp,Children,Educational,Families,Food Provided,Games,General,Kids Area,Kosher Food,Transportation Available,Wheelchair Accessible,Young Children
ATTACH;FMTTYPE=image/jpeg:https://cincyjewfolk.com/wp-content/uploads/sites/2/2025/05/24_Spring_JliveHero_960600px-cwgEwV.jpg
ORGANIZER;CN="JKids | Mayerson JCC":MAILTO:aftercrew@mayersonjcc.org
GEO:39.2158032;-84.4287563
X-APPLE-STRUCTURED-LOCATION;VALUE=URI;X-ADDRESS=Mayerson JCC 8485 Ridge Ave Cincinnati Ridge Avenue 8485 Cincinnati Ohio 45236 United States;X-APPLE-RADIUS=500;X-TITLE=Ridge Avenue 8485:geo:-84.4287563,39.2158032
END:VEVENT
BEGIN:VEVENT
DTSTART;TZID=America/Detroit:20260505T170000
DTEND;TZID=America/Detroit:20260505T200000
DTSTAMP:20260419T101252
CREATED:20260406T153540Z
LAST-MODIFIED:20260419T140533Z
UID:10003292-1778000400-1778011200@cincyjewfolk.com
SUMMARY:Lag BaOmer & Kids' Business Fair
DESCRIPTION:Join us for a family barbeque and a real-world learning opportunity for kids!\nRelease energy through the bounce house\, walk through the Chai Tots Art\nExhibit\, and enjoy booths set up by our kids. \nView event on Jlive: https://jlive.app/events/15401
URL:https://cincyjewfolk.com/event/lag-baomer-kids-business-fair/
LOCATION:Jewish Discovery Center 7587 Central Parke Blvd\, Mason\, Central Parke Boulevard 7587\, Mason\, Ohio\, 45040\, United States
CATEGORIES:Families,Food Provided,Games,Jewish Holiday,Kids Area,Kosher Food,Lag B'Omer
ATTACH;FMTTYPE=image/png:https://cincyjewfolk.com/wp-content/uploads/sites/2/2026/04/JLive_BBQ-XNWNoV.png
ORGANIZER;CN="Jewish Discovery Center":MAILTO:rabbimendel@jdiscovery.com
GEO:39.3290277;-84.318059
X-APPLE-STRUCTURED-LOCATION;VALUE=URI;X-ADDRESS=Jewish Discovery Center 7587 Central Parke Blvd Mason Central Parke Boulevard 7587 Mason Ohio 45040 United States;X-APPLE-RADIUS=500;X-TITLE=Central Parke Boulevard 7587:geo:-84.318059,39.3290277
END:VEVENT
BEGIN:VEVENT
DTSTART;TZID=America/Detroit:20260505T180000
DTEND;TZID=America/Detroit:20260505T203000
DTSTAMP:20260419T101252
CREATED:20260206T205225Z
LAST-MODIFIED:20260419T140533Z
UID:10002904-1778004000-1778013000@cincyjewfolk.com
SUMMARY:J Baby (Spring 2026)
DESCRIPTION:Join in community with others who are expecting their first child during this\nprenatal series. The program will include courses taught by certified\nprofessionals\, pediatricians\, and doulas and will prepare parents for labor\nand delivery\, breastfeeding\, and newborn safety. Enjoy this experience\ntogether to further deepen your connection with other families at this stage\nof life. Delicious dinner will be provided at each session! \n**Discussion Topics**\n  * Pre-Class Social\n  * Labor & Delivery\n  * Infant Care & Newborn Safety\n  * Lactation\n  * Jewish Life & Ritual\n  * Preparing for 4th Trimester\n  * Celebratory Meal \n**Schedule:**\nTuesday\, May 5 |**6 – 8:30pm**\nTuesday\, May 12****|**6 – 8:30pm**\nTuesday\, May 19 | **6 – 8:30pm**\nTuesday\, May 26 |**6 – 8:30pm**\nTuesday\, June 2 | **6 – 8:30pm** \nView event on Jlive: https://jlive.app/events/14604
URL:https://cincyjewfolk.com/event/j-baby-spring-2026/
LOCATION:Mayerson JCC 8485 Ridge Ave\, Cincinnati\, Ridge Avenue 8485\, Cincinnati\, Ohio\, 45236\, United States
CATEGORIES:Adults,Educational,Food Provided,Kosher Food,Parenting,Parking (free),Wheelchair Accessible,Young Adults
ATTACH;FMTTYPE=image/jpeg:https://cincyjewfolk.com/wp-content/uploads/sites/2/2026/03/26_JBaby_Spring_JLive_Event_Hero_960600px-z3GwlY.jpg
ORGANIZER;CN="JFamily | Mayerson JCC":MAILTO:mphillips@mayersonjcc.org
GEO:39.2158032;-84.4287563
X-APPLE-STRUCTURED-LOCATION;VALUE=URI;X-ADDRESS=Mayerson JCC 8485 Ridge Ave Cincinnati Ridge Avenue 8485 Cincinnati Ohio 45236 United States;X-APPLE-RADIUS=500;X-TITLE=Ridge Avenue 8485:geo:-84.4287563,39.2158032
END:VEVENT
BEGIN:VEVENT
DTSTART;TZID=America/Detroit:20260512T180000
DTEND;TZID=America/Detroit:20260512T203000
DTSTAMP:20260419T101252
CREATED:20260206T205231Z
LAST-MODIFIED:20260419T140540Z
UID:10002905-1778608800-1778617800@cincyjewfolk.com
SUMMARY:J Baby (Spring 2026)
DESCRIPTION:Join in community with others who are expecting their first child during this\nprenatal series. The program will include courses taught by certified\nprofessionals\, pediatricians\, and doulas and will prepare parents for labor\nand delivery\, breastfeeding\, and newborn safety. Enjoy this experience\ntogether to further deepen your connection with other families at this stage\nof life. Delicious dinner will be provided at each session! \n**Discussion Topics**\n  * Pre-Class Social\n  * Labor & Delivery\n  * Infant Care & Newborn Safety\n  * Lactation\n  * Jewish Life & Ritual\n  * Preparing for 4th Trimester\n  * Celebratory Meal \n**Schedule:**\nTuesday\, May 5 |**6 – 8:30pm**\nTuesday\, May 12****|**6 – 8:30pm**\nTuesday\, May 19 | **6 – 8:30pm**\nTuesday\, May 26 |**6 – 8:30pm**\nTuesday\, June 2 | **6 – 8:30pm** \nView event on Jlive: https://jlive.app/events/14604
URL:https://cincyjewfolk.com/event/j-baby-spring-2026-2/
LOCATION:Mayerson JCC 8485 Ridge Ave\, Cincinnati\, Ridge Avenue 8485\, Cincinnati\, Ohio\, 45236\, United States
CATEGORIES:Adults,Educational,Food Provided,Kosher Food,Parenting,Parking (free),Wheelchair Accessible,Young Adults
ATTACH;FMTTYPE=image/jpeg:https://cincyjewfolk.com/wp-content/uploads/sites/2/2026/03/26_JBaby_Spring_JLive_Event_Hero_960600px-z3GwlY.jpg
ORGANIZER;CN="JFamily | Mayerson JCC":MAILTO:mphillips@mayersonjcc.org
GEO:39.2158032;-84.4287563
X-APPLE-STRUCTURED-LOCATION;VALUE=URI;X-ADDRESS=Mayerson JCC 8485 Ridge Ave Cincinnati Ridge Avenue 8485 Cincinnati Ohio 45236 United States;X-APPLE-RADIUS=500;X-TITLE=Ridge Avenue 8485:geo:-84.4287563,39.2158032
END:VEVENT
BEGIN:VEVENT
DTSTART;TZID=America/Detroit:20260518T160000
DTEND;TZID=America/Detroit:20260518T190000
DTSTAMP:20260419T101252
CREATED:20260310T182138Z
LAST-MODIFIED:20260419T140547Z
UID:10003126-1779120000-1779130800@cincyjewfolk.com
SUMMARY:JBN Event - A Conversation with the Rubys
DESCRIPTION:Wrap up your workday with Jewish Business Network for an evening of\nintentional networking\, meaningful conversation\, and unique experiences at\nLand Rover Cincinnati. Connect with fellow professionals in a welcoming\nenvironment designed to spark new relationships and opportunities. \nExperience the renowned flavors of Carlo & Johnny with a standout selection of\nelevated hors d’oeuvres\, paired with refreshing beverages throughout the\nevent—then take advantage of complimentary professional headshots to elevate\nyour personal brand. \nWe are honored to welcome **Jeff Ruby and Britney Ruby Miller** as our guest\nspeakers\, who will share their experiences in business\, leadership\, and the\nhospitality industry. Limited tickets available. \nJBN Cincinnati\, powered by JVS Careers\, is a network that serves as a dynamic\nplatform where Jewish professionals from diverse industries come together to\nshare knowledge\, resources\, and opportunities\, creating a thriving ecosystem\nof collaboration within our Cincinnati business community. Don’t miss this\nchance to hear from a distinguished business leader while expanding your\nprofessional network. \nView event on Jlive: https://jlive.app/events/14953
URL:https://cincyjewfolk.com/event/jbn-event-a-night-with-the-rubys/
LOCATION:Land Rover Cincinnati 9115 Blue Ash Rd\, Cincinnati
CATEGORIES:Adults,Career,Kosher Food,Leadership,Older Adults,Professional Development,Young Adults
ATTACH;FMTTYPE=image/jpeg:https://cincyjewfolk.com/wp-content/uploads/sites/2/2026/04/JeffRuby_BritneyRubyMiller_960x600-8dUZ6K.jpg
ORGANIZER;CN="JVS Careers":MAILTO:careerservices@jvscareers.org
END:VEVENT
BEGIN:VEVENT
DTSTART;TZID=America/Detroit:20260519T180000
DTEND;TZID=America/Detroit:20260519T203000
DTSTAMP:20260419T101252
CREATED:20260206T205240Z
LAST-MODIFIED:20260419T140548Z
UID:10002909-1779213600-1779222600@cincyjewfolk.com
SUMMARY:J Baby (Spring 2026)
DESCRIPTION:Join in community with others who are expecting their first child during this\nprenatal series. The program will include courses taught by certified\nprofessionals\, pediatricians\, and doulas and will prepare parents for labor\nand delivery\, breastfeeding\, and newborn safety. Enjoy this experience\ntogether to further deepen your connection with other families at this stage\nof life. Delicious dinner will be provided at each session! \n**Discussion Topics**\n  * Pre-Class Social\n  * Labor & Delivery\n  * Infant Care & Newborn Safety\n  * Lactation\n  * Jewish Life & Ritual\n  * Preparing for 4th Trimester\n  * Celebratory Meal \n**Schedule:**\nTuesday\, May 5 |**6 – 8:30pm**\nTuesday\, May 12****|**6 – 8:30pm**\nTuesday\, May 19 | **6 – 8:30pm**\nTuesday\, May 26 |**6 – 8:30pm**\nTuesday\, June 2 | **6 – 8:30pm** \nView event on Jlive: https://jlive.app/events/14604
URL:https://cincyjewfolk.com/event/j-baby-spring-2026-3/
LOCATION:Mayerson JCC 8485 Ridge Ave\, Cincinnati\, Ridge Avenue 8485\, Cincinnati\, Ohio\, 45236\, United States
CATEGORIES:Adults,Educational,Food Provided,Kosher Food,Parenting,Parking (free),Wheelchair Accessible,Young Adults
ATTACH;FMTTYPE=image/jpeg:https://cincyjewfolk.com/wp-content/uploads/sites/2/2026/03/26_JBaby_Spring_JLive_Event_Hero_960600px-z3GwlY.jpg
ORGANIZER;CN="JFamily | Mayerson JCC":MAILTO:mphillips@mayersonjcc.org
GEO:39.2158032;-84.4287563
X-APPLE-STRUCTURED-LOCATION;VALUE=URI;X-ADDRESS=Mayerson JCC 8485 Ridge Ave Cincinnati Ridge Avenue 8485 Cincinnati Ohio 45236 United States;X-APPLE-RADIUS=500;X-TITLE=Ridge Avenue 8485:geo:-84.4287563,39.2158032
END:VEVENT
BEGIN:VEVENT
DTSTART;TZID=America/Detroit:20260526T180000
DTEND;TZID=America/Detroit:20260526T203000
DTSTAMP:20260419T101252
CREATED:20260206T205240Z
LAST-MODIFIED:20260419T140551Z
UID:10002910-1779818400-1779827400@cincyjewfolk.com
SUMMARY:J Baby (Spring 2026)
DESCRIPTION:Join in community with others who are expecting their first child during this\nprenatal series. The program will include courses taught by certified\nprofessionals\, pediatricians\, and doulas and will prepare parents for labor\nand delivery\, breastfeeding\, and newborn safety. Enjoy this experience\ntogether to further deepen your connection with other families at this stage\nof life. Delicious dinner will be provided at each session! \n**Discussion Topics**\n  * Pre-Class Social\n  * Labor & Delivery\n  * Infant Care & Newborn Safety\n  * Lactation\n  * Jewish Life & Ritual\n  * Preparing for 4th Trimester\n  * Celebratory Meal \n**Schedule:**\nTuesday\, May 5 |**6 – 8:30pm**\nTuesday\, May 12****|**6 – 8:30pm**\nTuesday\, May 19 | **6 – 8:30pm**\nTuesday\, May 26 |**6 – 8:30pm**\nTuesday\, June 2 | **6 – 8:30pm** \nView event on Jlive: https://jlive.app/events/14604
URL:https://cincyjewfolk.com/event/j-baby-spring-2026-4/
LOCATION:Mayerson JCC 8485 Ridge Ave\, Cincinnati\, Ridge Avenue 8485\, Cincinnati\, Ohio\, 45236\, United States
CATEGORIES:Adults,Educational,Food Provided,Kosher Food,Parenting,Parking (free),Wheelchair Accessible,Young Adults
ATTACH;FMTTYPE=image/jpeg:https://cincyjewfolk.com/wp-content/uploads/sites/2/2026/03/26_JBaby_Spring_JLive_Event_Hero_960600px-z3GwlY.jpg
ORGANIZER;CN="JFamily | Mayerson JCC":MAILTO:mphillips@mayersonjcc.org
GEO:39.2158032;-84.4287563
X-APPLE-STRUCTURED-LOCATION;VALUE=URI;X-ADDRESS=Mayerson JCC 8485 Ridge Ave Cincinnati Ridge Avenue 8485 Cincinnati Ohio 45236 United States;X-APPLE-RADIUS=500;X-TITLE=Ridge Avenue 8485:geo:-84.4287563,39.2158032
END:VEVENT
BEGIN:VEVENT
DTSTART;TZID=America/Detroit:20260531T173000
DTEND;TZID=America/Detroit:20260531T203000
DTSTAMP:20260419T101252
CREATED:20260317T220630Z
LAST-MODIFIED:20260419T140553Z
UID:10003196-1780248600-1780259400@cincyjewfolk.com
SUMMARY:Spring Fundraiser Dinner & Concert with Joe Buchanan
DESCRIPTION:Join us for the highlight of the weekend — our **_Annual Spring Fundraiser\nConcert & Dinner_ featuring Jewish country music artist Joe Buchanan**.\nBlending heartfelt storytelling with a powerful personal journey into Judaism\,\nJoe’s music brings energy\, meaning\, and connection to the stage. \nEnjoy an evening of live music\, a festive dinner\, and community as we come\ntogether to celebrate and support Adath Israel. This special event will also\nhonor Mitch Cohen for his years of dedication and impact on our congregation. \n**Evening Highlights:**\n• Live concert with Joe Buchanan\n• A unique musical journey rooted in his path to Judaism\n• Festive dinner with our community\n• Honoring Mitch Cohen and his lasting contributions\n• Supporting the future of Adath Israel \nLearn more about our Artist-In-Residence Weekend\, sponsorship opportunities\,\nand event registration: (https://www.adath-israel.org/event/adath-israel-\nspring-fundraiser.html) \nView event on Jlive: https://jlive.app/events/14965
URL:https://cincyjewfolk.com/event/spring-fundraiser-dinner-concert-with-joe-buchanan/
LOCATION:Adath Israel Congregation 3201 E Galbraith Rd\, Cincinnati\, East Galbraith Road 3201\, Cincinnati\, Ohio\, 45236\, United States
CATEGORIES:Adults,College Students,Food Available ($),General,Grandparents,Kosher Food,Older Adults,Parking (free),Special Guest,Young Adults
ATTACH;FMTTYPE=image/png:https://cincyjewfolk.com/wp-content/uploads/sites/2/2026/03/Joe_Fundraiser_JLive-zXGeN4.png
ORGANIZER;CN="Adath Israel Congregation":MAILTO:info@adath-israel.org
GEO:39.2094456;-84.4246152
X-APPLE-STRUCTURED-LOCATION;VALUE=URI;X-ADDRESS=Adath Israel Congregation 3201 E Galbraith Rd Cincinnati East Galbraith Road 3201 Cincinnati Ohio 45236 United States;X-APPLE-RADIUS=500;X-TITLE=East Galbraith Road 3201:geo:-84.4246152,39.2094456
END:VEVENT
BEGIN:VEVENT
DTSTART;TZID=America/Detroit:20260531T180000
DTEND;TZID=America/Detroit:20260531T210000
DTSTAMP:20260419T101252
CREATED:20260304T152150Z
LAST-MODIFIED:20260419T140553Z
UID:10003068-1780250400-1780261200@cincyjewfolk.com
SUMMARY:AJC Global Forum 2026
DESCRIPTION:Join American Jewish Committee (AJC) and over two thousand committed activists\nat the premier global Jewish advocacy conference of the year. At AJC Global\nForum\, we’ll tackle the critical issues facing the Jewish people\, Israel\,\nAmerica\, and the world. Our program will feature:\n  * Large plenary sessions with headline speakers.\n  * Smaller breakout sessions designed to explore the key political\, strategic\, and social concerns affecting Israel and the global Jewish community.\n  * Exclusive opportunities to engage with diplomats\, decision makers\, interfaith partners\, community leaders\, and more. \nView event on Jlive: https://jlive.app/events/14354
URL:https://cincyjewfolk.com/event/ajc-global-forum-2026/
LOCATION:Washington \, Washington
CATEGORIES:Adults,Advocacy,After October 7,Arrival / Check In,Beverages (non alcoholic),Closed Captions,Cocktails and Drinks,College Students,Educational,Family,Grandparents,Israel,Kosher Food,Leadership,Older Adults,Special Guest,Vegetarian Friendly,Wheelchair Accessible,WiFi,Young Adults
ATTACH;FMTTYPE=image/png:https://cincyjewfolk.com/wp-content/uploads/sites/2/2024/07/CNRO_Jlive-2025_GloFo_Picture_-_GRFX-2017-zGo2Xm.tmp_.png
ORGANIZER;CN="American Jewish Committee (AJC) Cincinnati":MAILTO:cincinnati@ajc.org
END:VEVENT
END:VCALENDAR