BEGIN:VCALENDAR
VERSION:2.0
PRODID:-//Cincy Jewfolk - ECPv6.15.20//NONSGML v1.0//EN
CALSCALE:GREGORIAN
METHOD:PUBLISH
X-ORIGINAL-URL:https://cincyjewfolk.com
X-WR-CALDESC:Events for Cincy Jewfolk
REFRESH-INTERVAL;VALUE=DURATION:PT1H
X-Robots-Tag:noindex
X-PUBLISHED-TTL:PT1H
BEGIN:VTIMEZONE
TZID:America/Detroit
BEGIN:DAYLIGHT
TZOFFSETFROM:-0500
TZOFFSETTO:-0400
TZNAME:EDT
DTSTART:20250309T070000
END:DAYLIGHT
BEGIN:STANDARD
TZOFFSETFROM:-0400
TZOFFSETTO:-0500
TZNAME:EST
DTSTART:20251102T060000
END:STANDARD
BEGIN:DAYLIGHT
TZOFFSETFROM:-0500
TZOFFSETTO:-0400
TZNAME:EDT
DTSTART:20260308T070000
END:DAYLIGHT
BEGIN:STANDARD
TZOFFSETFROM:-0400
TZOFFSETTO:-0500
TZNAME:EST
DTSTART:20261101T060000
END:STANDARD
BEGIN:DAYLIGHT
TZOFFSETFROM:-0500
TZOFFSETTO:-0400
TZNAME:EDT
DTSTART:20270314T070000
END:DAYLIGHT
BEGIN:STANDARD
TZOFFSETFROM:-0400
TZOFFSETTO:-0500
TZNAME:EST
DTSTART:20271107T060000
END:STANDARD
END:VTIMEZONE
BEGIN:VEVENT
DTSTART;TZID=America/Detroit:20260910T093000
DTEND;TZID=America/Detroit:20260910T103000
DTSTAMP:20260425T152149
CREATED:20260424T183626Z
LAST-MODIFIED:20260425T190621Z
UID:10003425-1789032600-1789036200@cincyjewfolk.com
SUMMARY:Mindful Meditations
DESCRIPTION:**_This program is only open to members of the JCC and/or 60 & Better\nCenter._**_  You can learn more about our 60 & Better Center\n_(https://mayersonjcc.org/60-and-better/) _  or contact Melissa\nShrimplin at _513.761.7500 ext. 1218. \nJoin us for a gentle\, mindfulness experience designed to support emotional\nbalance\, physical ease\, and overall well-being. Each weekly session combines\nguided meditation\, mindful movement\, and supportive discussion to help\nparticipants release tension\, reconnect with their bodies\, and cultivate inner\ncalm. \nView event on Jlive: https://jlive.app/events/15570
URL:https://cincyjewfolk.com/event/mindful-meditations-11/
LOCATION:Mayerson JCC 8485 Ridge Ave\, Cincinnati\, Ridge Avenue 8485\, Cincinnati\, Ohio\, 45236\, United States
CATEGORIES:Adults,Educational,Grandparents,Health & Wellness,Mental Health,Older Adults,Parking (free),Wheelchair Accessible
ATTACH;FMTTYPE=image/jpeg:https://cincyjewfolk.com/wp-content/uploads/sites/2/2026/04/26_SUMMER_JLive_960x600ph-myaSdD.jpg
ORGANIZER;CN="60 &amp%3B Better | Mayerson JCC":MAILTO:lliner@mayersonjcc.org
GEO:39.2158032;-84.4287563
X-APPLE-STRUCTURED-LOCATION;VALUE=URI;X-ADDRESS=Mayerson JCC 8485 Ridge Ave Cincinnati Ridge Avenue 8485 Cincinnati Ohio 45236 United States;X-APPLE-RADIUS=500;X-TITLE=Ridge Avenue 8485:geo:-84.4287563,39.2158032
END:VEVENT
BEGIN:VEVENT
DTSTART;TZID=America/Detroit:20260917T093000
DTEND;TZID=America/Detroit:20260917T103000
DTSTAMP:20260425T152149
CREATED:20260424T183626Z
LAST-MODIFIED:20260425T190622Z
UID:10003426-1789637400-1789641000@cincyjewfolk.com
SUMMARY:Mindful Meditations
DESCRIPTION:**_This program is only open to members of the JCC and/or 60 & Better\nCenter._**_  You can learn more about our 60 & Better Center\n_(https://mayersonjcc.org/60-and-better/) _  or contact Melissa\nShrimplin at _513.761.7500 ext. 1218. \nJoin us for a gentle\, mindfulness experience designed to support emotional\nbalance\, physical ease\, and overall well-being. Each weekly session combines\nguided meditation\, mindful movement\, and supportive discussion to help\nparticipants release tension\, reconnect with their bodies\, and cultivate inner\ncalm. \nView event on Jlive: https://jlive.app/events/15570
URL:https://cincyjewfolk.com/event/mindful-meditations-12/
LOCATION:Mayerson JCC 8485 Ridge Ave\, Cincinnati\, Ridge Avenue 8485\, Cincinnati\, Ohio\, 45236\, United States
CATEGORIES:Adults,Educational,Grandparents,Health & Wellness,Mental Health,Older Adults,Parking (free),Wheelchair Accessible
ATTACH;FMTTYPE=image/jpeg:https://cincyjewfolk.com/wp-content/uploads/sites/2/2026/04/26_SUMMER_JLive_960x600ph-myaSdD.jpg
ORGANIZER;CN="60 &amp%3B Better | Mayerson JCC":MAILTO:lliner@mayersonjcc.org
GEO:39.2158032;-84.4287563
X-APPLE-STRUCTURED-LOCATION;VALUE=URI;X-ADDRESS=Mayerson JCC 8485 Ridge Ave Cincinnati Ridge Avenue 8485 Cincinnati Ohio 45236 United States;X-APPLE-RADIUS=500;X-TITLE=Ridge Avenue 8485:geo:-84.4287563,39.2158032
END:VEVENT
BEGIN:VEVENT
DTSTART;TZID=America/Detroit:20260924T093000
DTEND;TZID=America/Detroit:20260924T103000
DTSTAMP:20260425T152149
CREATED:20260424T183627Z
LAST-MODIFIED:20260425T190622Z
UID:10003427-1790242200-1790245800@cincyjewfolk.com
SUMMARY:Mindful Meditations
DESCRIPTION:**_This program is only open to members of the JCC and/or 60 & Better\nCenter._**_  You can learn more about our 60 & Better Center\n_(https://mayersonjcc.org/60-and-better/) _  or contact Melissa\nShrimplin at _513.761.7500 ext. 1218. \nJoin us for a gentle\, mindfulness experience designed to support emotional\nbalance\, physical ease\, and overall well-being. Each weekly session combines\nguided meditation\, mindful movement\, and supportive discussion to help\nparticipants release tension\, reconnect with their bodies\, and cultivate inner\ncalm. \nView event on Jlive: https://jlive.app/events/15570
URL:https://cincyjewfolk.com/event/mindful-meditations-13/
LOCATION:Mayerson JCC 8485 Ridge Ave\, Cincinnati\, Ridge Avenue 8485\, Cincinnati\, Ohio\, 45236\, United States
CATEGORIES:Adults,Educational,Grandparents,Health & Wellness,Mental Health,Older Adults,Parking (free),Wheelchair Accessible
ATTACH;FMTTYPE=image/jpeg:https://cincyjewfolk.com/wp-content/uploads/sites/2/2026/04/26_SUMMER_JLive_960x600ph-myaSdD.jpg
ORGANIZER;CN="60 &amp%3B Better | Mayerson JCC":MAILTO:lliner@mayersonjcc.org
GEO:39.2158032;-84.4287563
X-APPLE-STRUCTURED-LOCATION;VALUE=URI;X-ADDRESS=Mayerson JCC 8485 Ridge Ave Cincinnati Ridge Avenue 8485 Cincinnati Ohio 45236 United States;X-APPLE-RADIUS=500;X-TITLE=Ridge Avenue 8485:geo:-84.4287563,39.2158032
END:VEVENT
BEGIN:VEVENT
DTSTART;TZID=America/Detroit:20261001T093000
DTEND;TZID=America/Detroit:20261001T103000
DTSTAMP:20260425T152149
CREATED:20260424T183627Z
LAST-MODIFIED:20260425T190622Z
UID:10003428-1790847000-1790850600@cincyjewfolk.com
SUMMARY:Mindful Meditations
DESCRIPTION:**_This program is only open to members of the JCC and/or 60 & Better\nCenter._**_  You can learn more about our 60 & Better Center\n_(https://mayersonjcc.org/60-and-better/) _  or contact Melissa\nShrimplin at _513.761.7500 ext. 1218. \nJoin us for a gentle\, mindfulness experience designed to support emotional\nbalance\, physical ease\, and overall well-being. Each weekly session combines\nguided meditation\, mindful movement\, and supportive discussion to help\nparticipants release tension\, reconnect with their bodies\, and cultivate inner\ncalm. \nView event on Jlive: https://jlive.app/events/15570
URL:https://cincyjewfolk.com/event/mindful-meditations-14/
LOCATION:Mayerson JCC 8485 Ridge Ave\, Cincinnati\, Ridge Avenue 8485\, Cincinnati\, Ohio\, 45236\, United States
CATEGORIES:Adults,Educational,Grandparents,Health & Wellness,Mental Health,Older Adults,Parking (free),Wheelchair Accessible
ATTACH;FMTTYPE=image/jpeg:https://cincyjewfolk.com/wp-content/uploads/sites/2/2026/04/26_SUMMER_JLive_960x600ph-myaSdD.jpg
ORGANIZER;CN="60 &amp%3B Better | Mayerson JCC":MAILTO:lliner@mayersonjcc.org
GEO:39.2158032;-84.4287563
X-APPLE-STRUCTURED-LOCATION;VALUE=URI;X-ADDRESS=Mayerson JCC 8485 Ridge Ave Cincinnati Ridge Avenue 8485 Cincinnati Ohio 45236 United States;X-APPLE-RADIUS=500;X-TITLE=Ridge Avenue 8485:geo:-84.4287563,39.2158032
END:VEVENT
BEGIN:VEVENT
DTSTART;TZID=America/Detroit:20261008T093000
DTEND;TZID=America/Detroit:20261008T103000
DTSTAMP:20260425T152149
CREATED:20260424T183628Z
LAST-MODIFIED:20260425T190623Z
UID:10003429-1791451800-1791455400@cincyjewfolk.com
SUMMARY:Mindful Meditations
DESCRIPTION:**_This program is only open to members of the JCC and/or 60 & Better\nCenter._**_  You can learn more about our 60 & Better Center\n_(https://mayersonjcc.org/60-and-better/) _  or contact Melissa\nShrimplin at _513.761.7500 ext. 1218. \nJoin us for a gentle\, mindfulness experience designed to support emotional\nbalance\, physical ease\, and overall well-being. Each weekly session combines\nguided meditation\, mindful movement\, and supportive discussion to help\nparticipants release tension\, reconnect with their bodies\, and cultivate inner\ncalm. \nView event on Jlive: https://jlive.app/events/15570
URL:https://cincyjewfolk.com/event/mindful-meditations-15/
LOCATION:Mayerson JCC 8485 Ridge Ave\, Cincinnati\, Ridge Avenue 8485\, Cincinnati\, Ohio\, 45236\, United States
CATEGORIES:Adults,Educational,Grandparents,Health & Wellness,Mental Health,Older Adults,Parking (free),Wheelchair Accessible
ATTACH;FMTTYPE=image/jpeg:https://cincyjewfolk.com/wp-content/uploads/sites/2/2026/04/26_SUMMER_JLive_960x600ph-myaSdD.jpg
ORGANIZER;CN="60 &amp%3B Better | Mayerson JCC":MAILTO:lliner@mayersonjcc.org
GEO:39.2158032;-84.4287563
X-APPLE-STRUCTURED-LOCATION;VALUE=URI;X-ADDRESS=Mayerson JCC 8485 Ridge Ave Cincinnati Ridge Avenue 8485 Cincinnati Ohio 45236 United States;X-APPLE-RADIUS=500;X-TITLE=Ridge Avenue 8485:geo:-84.4287563,39.2158032
END:VEVENT
BEGIN:VEVENT
DTSTART;TZID=America/Detroit:20261015T093000
DTEND;TZID=America/Detroit:20261015T103000
DTSTAMP:20260425T152149
CREATED:20260424T183628Z
LAST-MODIFIED:20260425T190623Z
UID:10003430-1792056600-1792060200@cincyjewfolk.com
SUMMARY:Mindful Meditations
DESCRIPTION:**_This program is only open to members of the JCC and/or 60 & Better\nCenter._**_  You can learn more about our 60 & Better Center\n_(https://mayersonjcc.org/60-and-better/) _  or contact Melissa\nShrimplin at _513.761.7500 ext. 1218. \nJoin us for a gentle\, mindfulness experience designed to support emotional\nbalance\, physical ease\, and overall well-being. Each weekly session combines\nguided meditation\, mindful movement\, and supportive discussion to help\nparticipants release tension\, reconnect with their bodies\, and cultivate inner\ncalm. \nView event on Jlive: https://jlive.app/events/15570
URL:https://cincyjewfolk.com/event/mindful-meditations-16/
LOCATION:Mayerson JCC 8485 Ridge Ave\, Cincinnati\, Ridge Avenue 8485\, Cincinnati\, Ohio\, 45236\, United States
CATEGORIES:Adults,Educational,Grandparents,Health & Wellness,Mental Health,Older Adults,Parking (free),Wheelchair Accessible
ATTACH;FMTTYPE=image/jpeg:https://cincyjewfolk.com/wp-content/uploads/sites/2/2026/04/26_SUMMER_JLive_960x600ph-myaSdD.jpg
ORGANIZER;CN="60 &amp%3B Better | Mayerson JCC":MAILTO:lliner@mayersonjcc.org
GEO:39.2158032;-84.4287563
X-APPLE-STRUCTURED-LOCATION;VALUE=URI;X-ADDRESS=Mayerson JCC 8485 Ridge Ave Cincinnati Ridge Avenue 8485 Cincinnati Ohio 45236 United States;X-APPLE-RADIUS=500;X-TITLE=Ridge Avenue 8485:geo:-84.4287563,39.2158032
END:VEVENT
BEGIN:VEVENT
DTSTART;TZID=America/Detroit:20261022T093000
DTEND;TZID=America/Detroit:20261022T103000
DTSTAMP:20260425T152149
CREATED:20260424T183628Z
LAST-MODIFIED:20260425T190623Z
UID:10003431-1792661400-1792665000@cincyjewfolk.com
SUMMARY:Mindful Meditations
DESCRIPTION:**_This program is only open to members of the JCC and/or 60 & Better\nCenter._**_  You can learn more about our 60 & Better Center\n_(https://mayersonjcc.org/60-and-better/) _  or contact Melissa\nShrimplin at _513.761.7500 ext. 1218. \nJoin us for a gentle\, mindfulness experience designed to support emotional\nbalance\, physical ease\, and overall well-being. Each weekly session combines\nguided meditation\, mindful movement\, and supportive discussion to help\nparticipants release tension\, reconnect with their bodies\, and cultivate inner\ncalm. \nView event on Jlive: https://jlive.app/events/15570
URL:https://cincyjewfolk.com/event/mindful-meditations-17/
LOCATION:Mayerson JCC 8485 Ridge Ave\, Cincinnati\, Ridge Avenue 8485\, Cincinnati\, Ohio\, 45236\, United States
CATEGORIES:Adults,Educational,Grandparents,Health & Wellness,Mental Health,Older Adults,Parking (free),Wheelchair Accessible
ATTACH;FMTTYPE=image/jpeg:https://cincyjewfolk.com/wp-content/uploads/sites/2/2026/04/26_SUMMER_JLive_960x600ph-myaSdD.jpg
ORGANIZER;CN="60 &amp%3B Better | Mayerson JCC":MAILTO:lliner@mayersonjcc.org
GEO:39.2158032;-84.4287563
X-APPLE-STRUCTURED-LOCATION;VALUE=URI;X-ADDRESS=Mayerson JCC 8485 Ridge Ave Cincinnati Ridge Avenue 8485 Cincinnati Ohio 45236 United States;X-APPLE-RADIUS=500;X-TITLE=Ridge Avenue 8485:geo:-84.4287563,39.2158032
END:VEVENT
BEGIN:VEVENT
DTSTART;TZID=America/Detroit:20261029T093000
DTEND;TZID=America/Detroit:20261029T103000
DTSTAMP:20260425T152149
CREATED:20260424T183629Z
LAST-MODIFIED:20260425T190624Z
UID:10003432-1793266200-1793269800@cincyjewfolk.com
SUMMARY:Mindful Meditations
DESCRIPTION:**_This program is only open to members of the JCC and/or 60 & Better\nCenter._**_  You can learn more about our 60 & Better Center\n_(https://mayersonjcc.org/60-and-better/) _  or contact Melissa\nShrimplin at _513.761.7500 ext. 1218. \nJoin us for a gentle\, mindfulness experience designed to support emotional\nbalance\, physical ease\, and overall well-being. Each weekly session combines\nguided meditation\, mindful movement\, and supportive discussion to help\nparticipants release tension\, reconnect with their bodies\, and cultivate inner\ncalm. \nView event on Jlive: https://jlive.app/events/15570
URL:https://cincyjewfolk.com/event/mindful-meditations-18/
LOCATION:Mayerson JCC 8485 Ridge Ave\, Cincinnati\, Ridge Avenue 8485\, Cincinnati\, Ohio\, 45236\, United States
CATEGORIES:Adults,Educational,Grandparents,Health & Wellness,Mental Health,Older Adults,Parking (free),Wheelchair Accessible
ATTACH;FMTTYPE=image/jpeg:https://cincyjewfolk.com/wp-content/uploads/sites/2/2026/04/26_SUMMER_JLive_960x600ph-myaSdD.jpg
ORGANIZER;CN="60 &amp%3B Better | Mayerson JCC":MAILTO:lliner@mayersonjcc.org
GEO:39.2158032;-84.4287563
X-APPLE-STRUCTURED-LOCATION;VALUE=URI;X-ADDRESS=Mayerson JCC 8485 Ridge Ave Cincinnati Ridge Avenue 8485 Cincinnati Ohio 45236 United States;X-APPLE-RADIUS=500;X-TITLE=Ridge Avenue 8485:geo:-84.4287563,39.2158032
END:VEVENT
BEGIN:VEVENT
DTSTART;TZID=America/Detroit:20261105T093000
DTEND;TZID=America/Detroit:20261105T103000
DTSTAMP:20260425T152149
CREATED:20260424T183629Z
LAST-MODIFIED:20260425T190624Z
UID:10003433-1793871000-1793874600@cincyjewfolk.com
SUMMARY:Mindful Meditations
DESCRIPTION:**_This program is only open to members of the JCC and/or 60 & Better\nCenter._**_  You can learn more about our 60 & Better Center\n_(https://mayersonjcc.org/60-and-better/) _  or contact Melissa\nShrimplin at _513.761.7500 ext. 1218. \nJoin us for a gentle\, mindfulness experience designed to support emotional\nbalance\, physical ease\, and overall well-being. Each weekly session combines\nguided meditation\, mindful movement\, and supportive discussion to help\nparticipants release tension\, reconnect with their bodies\, and cultivate inner\ncalm. \nView event on Jlive: https://jlive.app/events/15570
URL:https://cincyjewfolk.com/event/mindful-meditations-19/
LOCATION:Mayerson JCC 8485 Ridge Ave\, Cincinnati\, Ridge Avenue 8485\, Cincinnati\, Ohio\, 45236\, United States
CATEGORIES:Adults,Educational,Grandparents,Health & Wellness,Mental Health,Older Adults,Parking (free),Wheelchair Accessible
ATTACH;FMTTYPE=image/jpeg:https://cincyjewfolk.com/wp-content/uploads/sites/2/2026/04/26_SUMMER_JLive_960x600ph-myaSdD.jpg
ORGANIZER;CN="60 &amp%3B Better | Mayerson JCC":MAILTO:lliner@mayersonjcc.org
GEO:39.2158032;-84.4287563
X-APPLE-STRUCTURED-LOCATION;VALUE=URI;X-ADDRESS=Mayerson JCC 8485 Ridge Ave Cincinnati Ridge Avenue 8485 Cincinnati Ohio 45236 United States;X-APPLE-RADIUS=500;X-TITLE=Ridge Avenue 8485:geo:-84.4287563,39.2158032
END:VEVENT
BEGIN:VEVENT
DTSTART;TZID=America/Detroit:20261112T093000
DTEND;TZID=America/Detroit:20261112T103000
DTSTAMP:20260425T152149
CREATED:20260424T183630Z
LAST-MODIFIED:20260425T190625Z
UID:10003434-1794475800-1794479400@cincyjewfolk.com
SUMMARY:Mindful Meditations
DESCRIPTION:**_This program is only open to members of the JCC and/or 60 & Better\nCenter._**_  You can learn more about our 60 & Better Center\n_(https://mayersonjcc.org/60-and-better/) _  or contact Melissa\nShrimplin at _513.761.7500 ext. 1218. \nJoin us for a gentle\, mindfulness experience designed to support emotional\nbalance\, physical ease\, and overall well-being. Each weekly session combines\nguided meditation\, mindful movement\, and supportive discussion to help\nparticipants release tension\, reconnect with their bodies\, and cultivate inner\ncalm. \nView event on Jlive: https://jlive.app/events/15570
URL:https://cincyjewfolk.com/event/mindful-meditations-20/
LOCATION:Mayerson JCC 8485 Ridge Ave\, Cincinnati\, Ridge Avenue 8485\, Cincinnati\, Ohio\, 45236\, United States
CATEGORIES:Adults,Educational,Grandparents,Health & Wellness,Mental Health,Older Adults,Parking (free),Wheelchair Accessible
ATTACH;FMTTYPE=image/jpeg:https://cincyjewfolk.com/wp-content/uploads/sites/2/2026/04/26_SUMMER_JLive_960x600ph-myaSdD.jpg
ORGANIZER;CN="60 &amp%3B Better | Mayerson JCC":MAILTO:lliner@mayersonjcc.org
GEO:39.2158032;-84.4287563
X-APPLE-STRUCTURED-LOCATION;VALUE=URI;X-ADDRESS=Mayerson JCC 8485 Ridge Ave Cincinnati Ridge Avenue 8485 Cincinnati Ohio 45236 United States;X-APPLE-RADIUS=500;X-TITLE=Ridge Avenue 8485:geo:-84.4287563,39.2158032
END:VEVENT
BEGIN:VEVENT
DTSTART;TZID=America/Detroit:20261119T093000
DTEND;TZID=America/Detroit:20261119T103000
DTSTAMP:20260425T152149
CREATED:20260424T183630Z
LAST-MODIFIED:20260425T190625Z
UID:10003435-1795080600-1795084200@cincyjewfolk.com
SUMMARY:Mindful Meditations
DESCRIPTION:**_This program is only open to members of the JCC and/or 60 & Better\nCenter._**_  You can learn more about our 60 & Better Center\n_(https://mayersonjcc.org/60-and-better/) _  or contact Melissa\nShrimplin at _513.761.7500 ext. 1218. \nJoin us for a gentle\, mindfulness experience designed to support emotional\nbalance\, physical ease\, and overall well-being. Each weekly session combines\nguided meditation\, mindful movement\, and supportive discussion to help\nparticipants release tension\, reconnect with their bodies\, and cultivate inner\ncalm. \nView event on Jlive: https://jlive.app/events/15570
URL:https://cincyjewfolk.com/event/mindful-meditations-21/
LOCATION:Mayerson JCC 8485 Ridge Ave\, Cincinnati\, Ridge Avenue 8485\, Cincinnati\, Ohio\, 45236\, United States
CATEGORIES:Adults,Educational,Grandparents,Health & Wellness,Mental Health,Older Adults,Parking (free),Wheelchair Accessible
ATTACH;FMTTYPE=image/jpeg:https://cincyjewfolk.com/wp-content/uploads/sites/2/2026/04/26_SUMMER_JLive_960x600ph-myaSdD.jpg
ORGANIZER;CN="60 &amp%3B Better | Mayerson JCC":MAILTO:lliner@mayersonjcc.org
GEO:39.2158032;-84.4287563
X-APPLE-STRUCTURED-LOCATION;VALUE=URI;X-ADDRESS=Mayerson JCC 8485 Ridge Ave Cincinnati Ridge Avenue 8485 Cincinnati Ohio 45236 United States;X-APPLE-RADIUS=500;X-TITLE=Ridge Avenue 8485:geo:-84.4287563,39.2158032
END:VEVENT
BEGIN:VEVENT
DTSTART;TZID=America/Detroit:20261203T093000
DTEND;TZID=America/Detroit:20261203T103000
DTSTAMP:20260425T152149
CREATED:20260424T183631Z
LAST-MODIFIED:20260425T190626Z
UID:10003436-1796290200-1796293800@cincyjewfolk.com
SUMMARY:Mindful Meditations
DESCRIPTION:**_This program is only open to members of the JCC and/or 60 & Better\nCenter._**_  You can learn more about our 60 & Better Center\n_(https://mayersonjcc.org/60-and-better/) _  or contact Melissa\nShrimplin at _513.761.7500 ext. 1218. \nJoin us for a gentle\, mindfulness experience designed to support emotional\nbalance\, physical ease\, and overall well-being. Each weekly session combines\nguided meditation\, mindful movement\, and supportive discussion to help\nparticipants release tension\, reconnect with their bodies\, and cultivate inner\ncalm. \nView event on Jlive: https://jlive.app/events/15570
URL:https://cincyjewfolk.com/event/mindful-meditations-22/
LOCATION:Mayerson JCC 8485 Ridge Ave\, Cincinnati\, Ridge Avenue 8485\, Cincinnati\, Ohio\, 45236\, United States
CATEGORIES:Adults,Educational,Grandparents,Health & Wellness,Mental Health,Older Adults,Parking (free),Wheelchair Accessible
ATTACH;FMTTYPE=image/jpeg:https://cincyjewfolk.com/wp-content/uploads/sites/2/2026/04/26_SUMMER_JLive_960x600ph-myaSdD.jpg
ORGANIZER;CN="60 &amp%3B Better | Mayerson JCC":MAILTO:lliner@mayersonjcc.org
GEO:39.2158032;-84.4287563
X-APPLE-STRUCTURED-LOCATION;VALUE=URI;X-ADDRESS=Mayerson JCC 8485 Ridge Ave Cincinnati Ridge Avenue 8485 Cincinnati Ohio 45236 United States;X-APPLE-RADIUS=500;X-TITLE=Ridge Avenue 8485:geo:-84.4287563,39.2158032
END:VEVENT
BEGIN:VEVENT
DTSTART;TZID=America/Detroit:20261210T093000
DTEND;TZID=America/Detroit:20261210T103000
DTSTAMP:20260425T152149
CREATED:20260424T183633Z
LAST-MODIFIED:20260425T190626Z
UID:10003437-1796895000-1796898600@cincyjewfolk.com
SUMMARY:Mindful Meditations
DESCRIPTION:**_This program is only open to members of the JCC and/or 60 & Better\nCenter._**_  You can learn more about our 60 & Better Center\n_(https://mayersonjcc.org/60-and-better/) _  or contact Melissa\nShrimplin at _513.761.7500 ext. 1218. \nJoin us for a gentle\, mindfulness experience designed to support emotional\nbalance\, physical ease\, and overall well-being. Each weekly session combines\nguided meditation\, mindful movement\, and supportive discussion to help\nparticipants release tension\, reconnect with their bodies\, and cultivate inner\ncalm. \nView event on Jlive: https://jlive.app/events/15570
URL:https://cincyjewfolk.com/event/mindful-meditations-23/
LOCATION:Mayerson JCC 8485 Ridge Ave\, Cincinnati\, Ridge Avenue 8485\, Cincinnati\, Ohio\, 45236\, United States
CATEGORIES:Adults,Educational,Grandparents,Health & Wellness,Mental Health,Older Adults,Parking (free),Wheelchair Accessible
ATTACH;FMTTYPE=image/jpeg:https://cincyjewfolk.com/wp-content/uploads/sites/2/2026/04/26_SUMMER_JLive_960x600ph-myaSdD.jpg
ORGANIZER;CN="60 &amp%3B Better | Mayerson JCC":MAILTO:lliner@mayersonjcc.org
GEO:39.2158032;-84.4287563
X-APPLE-STRUCTURED-LOCATION;VALUE=URI;X-ADDRESS=Mayerson JCC 8485 Ridge Ave Cincinnati Ridge Avenue 8485 Cincinnati Ohio 45236 United States;X-APPLE-RADIUS=500;X-TITLE=Ridge Avenue 8485:geo:-84.4287563,39.2158032
END:VEVENT
BEGIN:VEVENT
DTSTART;TZID=America/Detroit:20261217T093000
DTEND;TZID=America/Detroit:20261217T103000
DTSTAMP:20260425T152149
CREATED:20260424T183633Z
LAST-MODIFIED:20260425T190626Z
UID:10003438-1797499800-1797503400@cincyjewfolk.com
SUMMARY:Mindful Meditations
DESCRIPTION:**_This program is only open to members of the JCC and/or 60 & Better\nCenter._**_  You can learn more about our 60 & Better Center\n_(https://mayersonjcc.org/60-and-better/) _  or contact Melissa\nShrimplin at _513.761.7500 ext. 1218. \nJoin us for a gentle\, mindfulness experience designed to support emotional\nbalance\, physical ease\, and overall well-being. Each weekly session combines\nguided meditation\, mindful movement\, and supportive discussion to help\nparticipants release tension\, reconnect with their bodies\, and cultivate inner\ncalm. \nView event on Jlive: https://jlive.app/events/15570
URL:https://cincyjewfolk.com/event/mindful-meditations-24/
LOCATION:Mayerson JCC 8485 Ridge Ave\, Cincinnati\, Ridge Avenue 8485\, Cincinnati\, Ohio\, 45236\, United States
CATEGORIES:Adults,Educational,Grandparents,Health & Wellness,Mental Health,Older Adults,Parking (free),Wheelchair Accessible
ATTACH;FMTTYPE=image/jpeg:https://cincyjewfolk.com/wp-content/uploads/sites/2/2026/04/26_SUMMER_JLive_960x600ph-myaSdD.jpg
ORGANIZER;CN="60 &amp%3B Better | Mayerson JCC":MAILTO:lliner@mayersonjcc.org
GEO:39.2158032;-84.4287563
X-APPLE-STRUCTURED-LOCATION;VALUE=URI;X-ADDRESS=Mayerson JCC 8485 Ridge Ave Cincinnati Ridge Avenue 8485 Cincinnati Ohio 45236 United States;X-APPLE-RADIUS=500;X-TITLE=Ridge Avenue 8485:geo:-84.4287563,39.2158032
END:VEVENT
END:VCALENDAR