BEGIN:VCALENDAR
VERSION:2.0
PRODID:-//Cincy Jewfolk - ECPv6.15.20//NONSGML v1.0//EN
CALSCALE:GREGORIAN
METHOD:PUBLISH
X-ORIGINAL-URL:https://cincyjewfolk.com
X-WR-CALDESC:Events for Cincy Jewfolk
REFRESH-INTERVAL;VALUE=DURATION:PT1H
X-Robots-Tag:noindex
X-PUBLISHED-TTL:PT1H
BEGIN:VTIMEZONE
TZID:America/Detroit
BEGIN:DAYLIGHT
TZOFFSETFROM:-0500
TZOFFSETTO:-0400
TZNAME:EDT
DTSTART:20250309T070000
END:DAYLIGHT
BEGIN:STANDARD
TZOFFSETFROM:-0400
TZOFFSETTO:-0500
TZNAME:EST
DTSTART:20251102T060000
END:STANDARD
BEGIN:DAYLIGHT
TZOFFSETFROM:-0500
TZOFFSETTO:-0400
TZNAME:EDT
DTSTART:20260308T070000
END:DAYLIGHT
BEGIN:STANDARD
TZOFFSETFROM:-0400
TZOFFSETTO:-0500
TZNAME:EST
DTSTART:20261101T060000
END:STANDARD
BEGIN:DAYLIGHT
TZOFFSETFROM:-0500
TZOFFSETTO:-0400
TZNAME:EDT
DTSTART:20270314T070000
END:DAYLIGHT
BEGIN:STANDARD
TZOFFSETFROM:-0400
TZOFFSETTO:-0500
TZNAME:EST
DTSTART:20271107T060000
END:STANDARD
END:VTIMEZONE
BEGIN:VEVENT
DTSTART;TZID=America/Detroit:20260323T190000
DTEND;TZID=America/Detroit:20260323T210000
DTSTAMP:20260421T171643
CREATED:20260302T225203Z
LAST-MODIFIED:20260319T122024Z
UID:10003059-1774292400-1774299600@cincyjewfolk.com
SUMMARY:Vashti's Banquet with Adath Israel's Sisterhood
DESCRIPTION:Adath Israel Sisterhood welcomes all women in our Jewish community to Vashti’s\nBanquet. \nWe will come together for Persian inspired dairy dinner\, catered by Mikey\nFrank. \nThe theme of the event is celebrating Jewish women through the ages. There\nwill be a looping video with over 30 biblical and historic female figures that\nmade an impact on their world and ours. \nWe will explore specifically feminine head coverings as Rabbi Jessica Shafrin\nintroduces “Reclaiming Ritual\, Women and Head Covering”. We will then have an\nopportunity to discuss this ritual\, or get creative and paint Miriam’s Cups\nfor our Sederim\, or just hang out with new friends and old. \nThe program will close when we all come together in song\, led by Rebecca\nAxelrod\, Ritual Director of Adath Israel. \nView event on Jlive: https://jlive.app/events/15015
URL:https://cincyjewfolk.com/event/vashtis-banquet-with-adath-israels-sisterhood/
LOCATION:Adath Israel Congregation 3201 E Galbraith Rd\, Cincinnati\, East Galbraith Road 3201\, Cincinnati\, Ohio\, 45236\, United States
CATEGORIES:Adults,College Students,Family,Grandparents,Older Adults,Parking (free),Teens,Tweens,Young Adults
ATTACH;FMTTYPE=image/png:https://cincyjewfolk.com/wp-content/uploads/sites/2/2026/03/Vashtis_Banquet_JLive-ZYiIif.png
ORGANIZER;CN="Adath Israel Congregation":MAILTO:info@adath-israel.org
GEO:39.2094456;-84.4246152
X-APPLE-STRUCTURED-LOCATION;VALUE=URI;X-ADDRESS=Adath Israel Congregation 3201 E Galbraith Rd Cincinnati East Galbraith Road 3201 Cincinnati Ohio 45236 United States;X-APPLE-RADIUS=500;X-TITLE=East Galbraith Road 3201:geo:-84.4246152,39.2094456
END:VEVENT
BEGIN:VEVENT
DTSTART;TZID=America/Detroit:20260324T100000
DTEND;TZID=America/Detroit:20260324T110000
DTSTAMP:20260421T171643
CREATED:20260206T205152Z
LAST-MODIFIED:20260319T122025Z
UID:10002897-1774346400-1774350000@cincyjewfolk.com
SUMMARY:Music Together
DESCRIPTION:Music Together® is an early childhood music and movement program for children\,\nand the grownups who love them\, designed to develop their innate musicality\nthrough interactive songs\, beautiful lullabies\, and catchy rhythms.\nRegistration also includes recordings to play on the go\, a colorful\nillustrated family songbook\, and resources with bonus music-making ideas to\ntry at home. \n_In partnership with  Music Together_® \nPlease note:\n  * _By signing up for a class at Music Together Sound Support\, I understand and accept that on occasion a photo or a video may be taken of myself or my family to be used by Music Together Sound Support for the purpose of marketing the program. If this is not acceptable for your family\, please contact us via email at support@soundsupportohio.org_\n  *  _By enrolling in a Music Together class at Music Together Sound Support\, a licensed Music Together center\, you agree that any information you provide will be shared with Music Together Worldwide (MTW). For information about how MTW uses and stores your personal information\, we encourage you to review the Music Together Worldwide Privacy Policy._\n  * _I understand that my registration is not complete until payment is received._\n  * _Registration is subject to availability._ \nView event on Jlive: https://jlive.app/events/14603
URL:https://cincyjewfolk.com/event/music-together-47/
LOCATION:Mayerson JCC 8485 Ridge Ave\, Cincinnati\, Ridge Avenue 8485\, Cincinnati\, Ohio\, 45236\, United States
CATEGORIES:Families,Family,Food Available ($),Grandparents,Music,Parking (free),Wheelchair Accessible,Young Children
ATTACH;FMTTYPE=image/jpeg:https://cincyjewfolk.com/wp-content/uploads/sites/2/2024/11/25_Winter_JLive_960x600ph9-SwBKXL.tmp_.jpg
ORGANIZER;CN="JFamily | Mayerson JCC":MAILTO:mphillips@mayersonjcc.org
GEO:39.2158032;-84.4287563
X-APPLE-STRUCTURED-LOCATION;VALUE=URI;X-ADDRESS=Mayerson JCC 8485 Ridge Ave Cincinnati Ridge Avenue 8485 Cincinnati Ohio 45236 United States;X-APPLE-RADIUS=500;X-TITLE=Ridge Avenue 8485:geo:-84.4287563,39.2158032
END:VEVENT
BEGIN:VEVENT
DTSTART;TZID=America/Detroit:20260325T130000
DTEND;TZID=America/Detroit:20260325T140000
DTSTAMP:20260421T171643
CREATED:20251204T225201Z
LAST-MODIFIED:20260319T122028Z
UID:10002505-1774443600-1774447200@cincyjewfolk.com
SUMMARY:Judaism 101
DESCRIPTION:**_This program is only open to members of the JCC and/or 60 & Better\nCenter._**_  You can learn more about our 60 & Better Center\n_(https://mayersonjcc.org/60-and-better/) _or contact Melissa\nShrimplin at_ 513.761.7500 ext. 1218. \nWhether you are looking to deepen your understanding of Judaism\, are\nconsidering conversion\, or are sparked by curiosity to explore this rich\ntradition\, this class is for you. Together we will discuss the fundamental\nconcepts of Judaism\, explore theology and prayer\, and build relationships with\none another. Rabbi Sammy Kanter leads the learning and discussion\, and folks\nof all faiths and backgrounds are welcome and encouraged to attend! \nView event on Jlive: https://jlive.app/events/13686
URL:https://cincyjewfolk.com/event/judaism-101-16/
LOCATION:Mayerson JCC 8485 Ridge Ave\, Cincinnati\, Ridge Avenue 8485\, Cincinnati\, Ohio\, 45236\, United States
CATEGORIES:Grandparents,Jewish Learning,Older Adults,Parking (free),Wheelchair Accessible
ATTACH;FMTTYPE=image/jpeg:https://cincyjewfolk.com/wp-content/uploads/sites/2/2025/04/25_Summer_JLive_960x600ph17-WO3lg7.jpg
ORGANIZER;CN="60 &amp%3B Better | Mayerson JCC":MAILTO:lliner@mayersonjcc.org
GEO:39.2158032;-84.4287563
X-APPLE-STRUCTURED-LOCATION;VALUE=URI;X-ADDRESS=Mayerson JCC 8485 Ridge Ave Cincinnati Ridge Avenue 8485 Cincinnati Ohio 45236 United States;X-APPLE-RADIUS=500;X-TITLE=Ridge Avenue 8485:geo:-84.4287563,39.2158032
END:VEVENT
BEGIN:VEVENT
DTSTART;TZID=America/Detroit:20260329T100000
DTEND;TZID=America/Detroit:20260329T110000
DTSTAMP:20260421T171643
CREATED:20260213T150657Z
LAST-MODIFIED:20260329T143517Z
UID:10002958-1774778400-1774782000@cincyjewfolk.com
SUMMARY:Sababa Sunday - One Day Only
DESCRIPTION:_Ages 0 – 2_ \nFor one day only! Join us to celebrate Passover\, dance\, read PJ Library books\,\nplay instruments\, explore all your senses\, and enjoy Jewish music! This\ninteractive and immersive class will be led by Mollie Fingerman\, an\nexperienced early childhood teacher\, PJ Library mom and beautiful singer. \nView event on Jlive: https://jlive.app/events/14480
URL:https://cincyjewfolk.com/event/sababa-sunday-one-day-only/
LOCATION:Mayerson JCC 8485 Ridge Ave\, Cincinnati\, Ridge Avenue 8485\, Cincinnati\, Ohio\, 45236\, United States
CATEGORIES:Families,Family,Food Available ($),Grandparents,Jewish Holiday,Music,Parking (free),Passover,Wheelchair Accessible,Young Children
ATTACH;FMTTYPE=image/jpeg:https://cincyjewfolk.com/wp-content/uploads/sites/2/2024/11/25_Winter_JLive_960x600ph17-wg1taA.tmp_.jpg
ORGANIZER;CN="PJ Library | Mayerson JCC":MAILTO:mphillips@mayersonjcc.org
GEO:39.2158032;-84.4287563
X-APPLE-STRUCTURED-LOCATION;VALUE=URI;X-ADDRESS=Mayerson JCC 8485 Ridge Ave Cincinnati Ridge Avenue 8485 Cincinnati Ohio 45236 United States;X-APPLE-RADIUS=500;X-TITLE=Ridge Avenue 8485:geo:-84.4287563,39.2158032
END:VEVENT
BEGIN:VEVENT
DTSTART;TZID=America/Detroit:20260331T100000
DTEND;TZID=America/Detroit:20260331T110000
DTSTAMP:20260421T171643
CREATED:20260206T205156Z
LAST-MODIFIED:20260331T145024Z
UID:10002898-1774951200-1774954800@cincyjewfolk.com
SUMMARY:Music Together
DESCRIPTION:Music Together® is an early childhood music and movement program for children\,\nand the grownups who love them\, designed to develop their innate musicality\nthrough interactive songs\, beautiful lullabies\, and catchy rhythms.\nRegistration also includes recordings to play on the go\, a colorful\nillustrated family songbook\, and resources with bonus music-making ideas to\ntry at home. \n_In partnership with  Music Together_® \nPlease note:\n  * _By signing up for a class at Music Together Sound Support\, I understand and accept that on occasion a photo or a video may be taken of myself or my family to be used by Music Together Sound Support for the purpose of marketing the program. If this is not acceptable for your family\, please contact us via email at support@soundsupportohio.org_\n  *  _By enrolling in a Music Together class at Music Together Sound Support\, a licensed Music Together center\, you agree that any information you provide will be shared with Music Together Worldwide (MTW). For information about how MTW uses and stores your personal information\, we encourage you to review the Music Together Worldwide Privacy Policy._\n  * _I understand that my registration is not complete until payment is received._\n  * _Registration is subject to availability._ \nView event on Jlive: https://jlive.app/events/14603
URL:https://cincyjewfolk.com/event/music-together-48/
LOCATION:Mayerson JCC 8485 Ridge Ave\, Cincinnati\, Ridge Avenue 8485\, Cincinnati\, Ohio\, 45236\, United States
CATEGORIES:Families,Family,Food Available ($),Grandparents,Music,Parking (free),Wheelchair Accessible,Young Children
ATTACH;FMTTYPE=image/jpeg:https://cincyjewfolk.com/wp-content/uploads/sites/2/2024/11/25_Winter_JLive_960x600ph9-SwBKXL.tmp_.jpg
ORGANIZER;CN="JFamily | Mayerson JCC":MAILTO:mphillips@mayersonjcc.org
GEO:39.2158032;-84.4287563
X-APPLE-STRUCTURED-LOCATION;VALUE=URI;X-ADDRESS=Mayerson JCC 8485 Ridge Ave Cincinnati Ridge Avenue 8485 Cincinnati Ohio 45236 United States;X-APPLE-RADIUS=500;X-TITLE=Ridge Avenue 8485:geo:-84.4287563,39.2158032
END:VEVENT
END:VCALENDAR