BEGIN:VCALENDAR
VERSION:2.0
PRODID:-//Cincy Jewfolk - ECPv6.15.20//NONSGML v1.0//EN
CALSCALE:GREGORIAN
METHOD:PUBLISH
X-WR-CALNAME:Cincy Jewfolk
X-ORIGINAL-URL:https://cincyjewfolk.com
X-WR-CALDESC:Events for Cincy Jewfolk
REFRESH-INTERVAL;VALUE=DURATION:PT1H
X-Robots-Tag:noindex
X-PUBLISHED-TTL:PT1H
BEGIN:VTIMEZONE
TZID:America/Detroit
BEGIN:DAYLIGHT
TZOFFSETFROM:-0500
TZOFFSETTO:-0400
TZNAME:EDT
DTSTART:20250309T070000
END:DAYLIGHT
BEGIN:STANDARD
TZOFFSETFROM:-0400
TZOFFSETTO:-0500
TZNAME:EST
DTSTART:20251102T060000
END:STANDARD
BEGIN:DAYLIGHT
TZOFFSETFROM:-0500
TZOFFSETTO:-0400
TZNAME:EDT
DTSTART:20260308T070000
END:DAYLIGHT
BEGIN:STANDARD
TZOFFSETFROM:-0400
TZOFFSETTO:-0500
TZNAME:EST
DTSTART:20261101T060000
END:STANDARD
BEGIN:DAYLIGHT
TZOFFSETFROM:-0500
TZOFFSETTO:-0400
TZNAME:EDT
DTSTART:20270314T070000
END:DAYLIGHT
BEGIN:STANDARD
TZOFFSETFROM:-0400
TZOFFSETTO:-0500
TZNAME:EST
DTSTART:20271107T060000
END:STANDARD
END:VTIMEZONE
BEGIN:VEVENT
DTSTART;TZID=America/Detroit:20260522T000000
DTEND;TZID=America/Detroit:20260524T000000
DTSTAMP:20260423T052147
CREATED:20251117T225116Z
LAST-MODIFIED:20260423T092045Z
UID:10002393-1779408000-1779580800@cincyjewfolk.com
SUMMARY:Camp Livingston Family Camp
DESCRIPTION:We are so excited to welcome you to Camp! \nThe weekend will begin with an exciting camp-style Shabbat dinner and\nmemorable service held under the stars. Throughout the event\, family campers\ncan enjoy lakefront activities like waterskiing\, kayaking\, canoeing\, and\ntubing. You can also tackle the high ropes course and climbing wall\, choose\nfrom a wide variety of sports\, and make crafts to take home to remember the\nweekend. Family campers will also enjoy campfires and sleep in cabins.\nProgramming is accessible for kids of all ages. At bedtime\, parents can enjoy\nspecial adult only programming while supervision is provided for the kids in\nthe sleeping areas. \nView event on Jlive: https://jlive.app/events/13640
URL:https://cincyjewfolk.com/event/camp-livingston-family-camp/
LOCATION:Camp Livingston 4998 Nell Lee Rd\, Bennington\, Nell Lee Road 4998\, Bennington\, Indiana\, 47011\, United States
CATEGORIES:All Ages,Coffee,Educational,Food Provided,Games,Kids Area,Nature,Outdoors,Vegetarian Friendly
ATTACH;FMTTYPE=image/png:https://cincyjewfolk.com/wp-content/uploads/sites/2/2025/11/JLive_Family_Camp_Spring_2-dhp9Ec.png
ORGANIZER;CN="Camp Livingston":MAILTO:info@camplivingston.org
GEO:38.8502345;-85.1116044
X-APPLE-STRUCTURED-LOCATION;VALUE=URI;X-ADDRESS=Camp Livingston 4998 Nell Lee Rd Bennington Nell Lee Road 4998 Bennington Indiana 47011 United States;X-APPLE-RADIUS=500;X-TITLE=Nell Lee Road 4998:geo:-85.1116044,38.8502345
END:VEVENT
BEGIN:VEVENT
DTSTART;TZID=America/Detroit:20260522T173000
DTEND;TZID=America/Detroit:20260522T203000
DTSTAMP:20260423T052147
CREATED:20260422T190550Z
LAST-MODIFIED:20260423T092047Z
UID:10003402-1779471000-1779481800@cincyjewfolk.com
SUMMARY:Dairy Shabbat
DESCRIPTION:Join us for a delicious Dairy Friday Night Dinner! Features a full children’s\nprogram and entertainment\, and a prize for every child. Listen in to the Ten\nCommandments! In partnership with Friday Night Shabbat. \nView event on Jlive: https://jlive.app/events/15611
URL:https://cincyjewfolk.com/event/dairy-shabbat/
LOCATION:Jewish Discovery Center 7587 Central Parke Blvd\, Mason\, Central Parke Boulevard 7587\, Mason\, Ohio\, 45040\, United States
CATEGORIES:All Ages,Arcade Games,Food Provided,Jewish Holiday,Shabbat
ATTACH;FMTTYPE=image/png:https://cincyjewfolk.com/wp-content/uploads/sites/2/2026/04/JLive_Dairy-shXQ9L.png
ORGANIZER;CN="Jewish Discovery Center":MAILTO:rabbimendel@jdiscovery.com
GEO:39.3290277;-84.318059
X-APPLE-STRUCTURED-LOCATION;VALUE=URI;X-ADDRESS=Jewish Discovery Center 7587 Central Parke Blvd Mason Central Parke Boulevard 7587 Mason Ohio 45040 United States;X-APPLE-RADIUS=500;X-TITLE=Central Parke Boulevard 7587:geo:-84.318059,39.3290277
END:VEVENT
BEGIN:VEVENT
DTSTART;TZID=America/Detroit:20260529T170000
DTEND;TZID=America/Detroit:20260529T200000
DTSTAMP:20260423T052147
CREATED:20260302T142140Z
LAST-MODIFIED:20260423T092048Z
UID:10003051-1780074000-1780084800@cincyjewfolk.com
SUMMARY:Rock the Block 2026
DESCRIPTION:Join us in the Rockdale Temple Parking Lot for Rock the Block! Enjoy all your\nRock the Block favorites: deli dinner\, drinks and desserts\, music\, games\, and\noutdoor activities for all ages. \nView event on Jlive: https://jlive.app/events/14725
URL:https://cincyjewfolk.com/event/rock-the-block-2026/
LOCATION:Rockdale Temple 8501 Ridge Ave\, Cincinnati
CATEGORIES:Adults,Beverages (non alcoholic),Children,Cocktails and Drinks,Coffee,Desserts provided,Families,Family,Food Provided,General,Jewish Holiday,Music,Older Adults,Outdoors,Parking (free),Shabbat,Vegetarian Friendly,Wheelchair Accessible,Young Adults,Young Children
ATTACH;FMTTYPE=image/png:https://cincyjewfolk.com/wp-content/uploads/sites/2/2026/03/Opt_1-E4dCZ0.png
ORGANIZER;CN="Rockdale Temple":MAILTO:shalom@rockdaletemple.org
END:VEVENT
BEGIN:VEVENT
DTSTART;TZID=America/Detroit:20260605T173000
DTEND;TZID=America/Detroit:20260605T203000
DTSTAMP:20260423T052147
CREATED:20260421T140556Z
LAST-MODIFIED:20260423T092051Z
UID:10003392-1780680600-1780691400@cincyjewfolk.com
SUMMARY:Friday Night Shabbat: Camp Edition
DESCRIPTION:_Best for families with kids ages 12 & Under_\nJoin us at the JCC for a fun and welcoming Friday Night Shabbat. This is a\ngreat chance for Camp at the J families to connect before the summer begins\,\nand for kids to start meeting the friends who will be in their bunks. While\nthis Friday Night Shabbat might be geared towards Camp at the J families\, all\nare welcome and encouraged to attend. \nWe’ll gather with songs\, blessings\, and a shared meal\, creating an easy\,\nwelcoming space to get to know one another. Whether you’re new to camp or a\nreturning family\, it’s a chance to walk into the summer already feeling\nconnected. \nWe can’t wait to welcome Shabbat and kick off the camp season with you. \n_In partnership with Friday Night Shabbat and Camp at the J._ \nView event on Jlive: https://jlive.app/events/15301
URL:https://cincyjewfolk.com/event/friday-night-shabbat-11/
LOCATION:Mayerson JCC 8485 Ridge Ave\, Cincinnati\, Ridge Avenue 8485\, Cincinnati\, Ohio\, 45236\, United States
CATEGORIES:Food Provided,Kids Area,Kosher,Kosher Food,Wheelchair Accessible
ATTACH;FMTTYPE=image/jpeg:https://cincyjewfolk.com/wp-content/uploads/sites/2/2026/04/26_Friday_Night_Shabbat_JLive_960x600_1-IsdEn6.jpg
ORGANIZER;CN="JFamily | Mayerson JCC":MAILTO:mphillips@mayersonjcc.org
GEO:39.2158032;-84.4287563
X-APPLE-STRUCTURED-LOCATION;VALUE=URI;X-ADDRESS=Mayerson JCC 8485 Ridge Ave Cincinnati Ridge Avenue 8485 Cincinnati Ohio 45236 United States;X-APPLE-RADIUS=500;X-TITLE=Ridge Avenue 8485:geo:-84.4287563,39.2158032
END:VEVENT
BEGIN:VEVENT
DTSTART;TZID=America/Detroit:20260607T100000
DTEND;TZID=America/Detroit:20260607T150000
DTSTAMP:20260423T052147
CREATED:20260228T203624Z
LAST-MODIFIED:20260423T092052Z
UID:10003049-1780826400-1780844400@cincyjewfolk.com
SUMMARY:Community Day of Fun at Camp Livingston
DESCRIPTION:Join us for a fun filled Community Day of Fun at Camp Livingston! Enjoy many\nof our programs\, make new friends\, and meet community members at our kosher\nstyle cookout lunch! \n_Presented by Republic Bank. In partnership with Jewish Federation of\nCincinnati\, The Jewish Foundation of Cincinnati\, Mayerson JCC\, and Rockwern\nAcademy. Sponsored in part by PJ Library Cincinnati\, Jewish Federation of\nGreater Dayton\, Trager Family JCC/Jewish Federation of Louisville\, Kandle\nDining\, New Riff Distilling\, Kamine and Schilling\, Allied Glass & Mirror\,\nNoteworthy Events\, Mariemont Veterinary Clinic\, and Queen City Laundry._ \nView event on Jlive: https://jlive.app/events/14515
URL:https://cincyjewfolk.com/event/community-day-of-fun-at-camp-livingston/
LOCATION:4998 Nell Lee Rd 4998 Nell Lee Rd\, Bennington
CATEGORIES:All Ages,Camp,Food Provided,Games,Nature,Outdoors
ATTACH;FMTTYPE=image/png:https://cincyjewfolk.com/wp-content/uploads/sites/2/2026/02/Community_Day_JLive_2026_2-uB58ZA.png
ORGANIZER;CN="Camp Livingston":MAILTO:info@camplivingston.org
END:VEVENT
BEGIN:VEVENT
DTSTART;TZID=America/Detroit:20260611T080000
DTEND;TZID=America/Detroit:20260611T200000
DTSTAMP:20260423T052147
CREATED:20260206T205235Z
LAST-MODIFIED:20260423T092052Z
UID:10002906-1781164800-1781208000@cincyjewfolk.com
SUMMARY:J Classic 2026
DESCRIPTION:Join us as we celebrate 30 years of the J Classic\, the Mayerson JCC’s largest\nannual fundraising event. Each summer\, hundreds of people gather at\nLosantiville Country Club for a great day of activities\, including the Adams\nGolf Tournament\, tennis\, pickleball\, canasta\, mahjong\, Course of Caterers\nDinner\, J Classic Raffle\, and the Young Adult Par-Tee. **Golf is sold out\, but\nif you have any questions\, please reach out to Rick Lefton\nat**(https://mailto:rlefton@mayersonjcc.org)**.** \n**Schedule for the Day:**\n  * **7:15am** : Morning golf (SOLD OUT)\, Women’s Tennis and Men’s Pickleball check-in begins; driving range opens for the day. Breakfast will be available.\n  * **8am** : Morning golf – Instructions and shotgun start.\n  * **8:30am** : Men’s Pickleball Tournament begins.\n  * **9am** : Women’s Tennis Tournament begins.\n  * **11am** : Mixed Doubles Pickleball Tournament begins.\n  * **11:45am-2pm** : Lunch and afternoon golf (SOLD OUT)\, Canasta\, Mahj\, Women’s Pickleball and Men’s Tennis check-in begins.\n  * **1:15pm** : Afternoon golf (SOLD OUT) – Instructions and shotgun start.\n  * **2pm** : Canasta and Mahj play begins.\n  * **2pm** : Men’s Tennis Tournament begins.\n  * **2:30pm** : Women’s Pickleball Tournament begins.\n  * **6pm** : Course of Caterers Dinner\, Young Adult ParTee\, and Tiles & Taste.\n**_*Lunch and the Course of Caterers Dinner are included in Golf\, Canasta\,\nMahj\, Pickleball and Tennis registration._** \n**Win Great Prizes In Our Raffle!**\nPrizes include\, but are not limited to:\n  * Jewelry\n  * Sports Event Tickets\n  * Local Attraction Passes\n  * Restaurant Gift Cards\n  * Spirits\n  * Arts Events & Concert Tickets\n  * Much more!\nRaffle tickets are $100 for 12 tickets or $50 for 5 tickets. When purchased\nonline\, raffle tickets will be filled out for the purchaser.   \nView event on Jlive: https://jlive.app/events/14405
URL:https://cincyjewfolk.com/event/j-classic-2026/
LOCATION:Losantiville Country Club 3097 Losantiville Ave\, Cincinnati\, Losantiville Avenue 3097\, Cincinnati\, Ohio\, 45213\, United States
CATEGORIES:Adults,Cocktails and Drinks,Desserts provided,Food Provided,Games,Outdoors,Parking (free),Philanthropy,Sports & Fitness,Young Adults
ATTACH;FMTTYPE=image/jpeg:https://cincyjewfolk.com/wp-content/uploads/sites/2/2026/02/26_JClassic_General_JLive_960x600px-uKjoZ5.jpg
ORGANIZER;CN="Mayerson JCC":MAILTO:rlefton@mayersonjcc.org
GEO:39.1834373;-84.4310684
X-APPLE-STRUCTURED-LOCATION;VALUE=URI;X-ADDRESS=Losantiville Country Club 3097 Losantiville Ave Cincinnati Losantiville Avenue 3097 Cincinnati Ohio 45213 United States;X-APPLE-RADIUS=500;X-TITLE=Losantiville Avenue 3097:geo:-84.4310684,39.1834373
END:VEVENT
BEGIN:VEVENT
DTSTART;TZID=America/Detroit:20260611T180000
DTEND;TZID=America/Detroit:20260611T200000
DTSTAMP:20260423T052147
CREATED:20260217T222214Z
LAST-MODIFIED:20260423T092054Z
UID:10002979-1781200800-1781208000@cincyjewfolk.com
SUMMARY:Par-Tee 2026
DESCRIPTION:Join the J at Losantiville Country Club for the young adult event of the\nsummer\, the Par-Tee! Your ticket includes the Course of Caterers Dinner event\,\nan open bar\, and music provided by M2DM Entertainment. You are also invited to\nplay Pickleball during the Course of Caterers. \nThe J Classic is the Mayerson JCC’s major annual fundraiser that brings\ncommunity together to support the important services and programs at the J\nlike Meals on Wheels\, the JCC Early Childhood School\, Camp at the J\, the 60 &\nBetter Center\, and more. \nThe event features a variety of activities and ways to show your support:\n  * Morning and afternoon rounds of golf\, pickleball\, and tennis\n  * Games of canasta and Mah-jongg\n  * Raffle tickets to win incredible prizes\n  * The “Course of Caterers” dinner and young adult Par-Tee (both starting at 6pm) \nYour participation and support of the J Classic and Par-Tee allow the J to\ncontinue upholding our mission of connecting people so that they can live\nhappier\, fuller lives\, creating a vibrant Jewish community! \nView event on Jlive: https://jlive.app/events/14721
URL:https://cincyjewfolk.com/event/par-tee-2026/
LOCATION:Losantiville Country Club 3097 Losantiville Ave\, Cincinnati\, Losantiville Avenue 3097\, Cincinnati\, Ohio\, 45213\, United States
CATEGORIES:Cocktails and Drinks,Food,Food Provided,Parking ($),Parking (free),Young Adults
ATTACH;FMTTYPE=image/jpeg:https://cincyjewfolk.com/wp-content/uploads/sites/2/2026/02/26_JClassic_Par-Tee_JLive_960x600px-eCvYIx.jpg
ORGANIZER;CN="20s &amp%3B 30s | Mayerson JCC":MAILTO:angoldstein@mayersonjcc.org
GEO:39.1834373;-84.4310684
X-APPLE-STRUCTURED-LOCATION;VALUE=URI;X-ADDRESS=Losantiville Country Club 3097 Losantiville Ave Cincinnati Losantiville Avenue 3097 Cincinnati Ohio 45213 United States;X-APPLE-RADIUS=500;X-TITLE=Losantiville Avenue 3097:geo:-84.4310684,39.1834373
END:VEVENT
BEGIN:VEVENT
DTSTART;TZID=America/Detroit:20260804T180000
DTEND;TZID=America/Detroit:20260804T203000
DTSTAMP:20260423T052147
CREATED:20260421T173604Z
LAST-MODIFIED:20260423T092059Z
UID:10003393-1785866400-1785875400@cincyjewfolk.com
SUMMARY:J Baby (Summer 2026)
DESCRIPTION:Join in community with others who are expecting their first child during this\nprenatal series. The program will include courses taught by certified\nprofessionals\, pediatricians\, and doulas and will prepare parents for labor\nand delivery\, breastfeeding\, and newborn safety. This exciting milestone in\nlife is more enriching with a community by your side. Enjoy this experience\ntogether with other Jewish parents as you deepen connections and form lifelong\nfriendships.****Delicious dinner will be provided at each session! \n**Discussion Topics**\n  * Pre-Class Social\n  * Labor & Delivery\n  * Infant Care & Newborn Safety\n  * Lactation\n  * Jewish Life & Ritual\n  * Preparing for 4th Trimester\n  * Celebratory Meal \n**Schedule:**\nTuesday\, August 4 |**6 – 8:30pm**\nTuesday\, August 11****|**6 – 8:30pm**\nTuesday\, August 18 | **6 – 8:30pm**\nTuesday\, August 25|**6 – 8:30pm**\nTuesday\, September 1 | **6 – 8:30pm** \nA pre-social gathering will take place on Sunday\, July 26. \nView event on Jlive: https://jlive.app/events/15452
URL:https://cincyjewfolk.com/event/j-baby-summer-2026/
LOCATION:Mayerson JCC 8485 Ridge Ave\, Cincinnati\, Ridge Avenue 8485\, Cincinnati\, Ohio\, 45236\, United States
CATEGORIES:Adults,Educational,Food Provided,Kosher Food,Parenting,Parking (free),Wheelchair Accessible,Young Adults
ATTACH;FMTTYPE=image/jpeg:https://cincyjewfolk.com/wp-content/uploads/sites/2/2026/03/26_JBaby_Spring_JLive_Event_Hero_960600px-z3GwlY.jpg
ORGANIZER;CN="JFamily | Mayerson JCC":MAILTO:mphillips@mayersonjcc.org
GEO:39.2158032;-84.4287563
X-APPLE-STRUCTURED-LOCATION;VALUE=URI;X-ADDRESS=Mayerson JCC 8485 Ridge Ave Cincinnati Ridge Avenue 8485 Cincinnati Ohio 45236 United States;X-APPLE-RADIUS=500;X-TITLE=Ridge Avenue 8485:geo:-84.4287563,39.2158032
END:VEVENT
BEGIN:VEVENT
DTSTART;TZID=America/Detroit:20260811T180000
DTEND;TZID=America/Detroit:20260811T203000
DTSTAMP:20260423T052147
CREATED:20260421T173605Z
LAST-MODIFIED:20260423T092101Z
UID:10003394-1786471200-1786480200@cincyjewfolk.com
SUMMARY:J Baby (Summer 2026)
DESCRIPTION:Join in community with others who are expecting their first child during this\nprenatal series. The program will include courses taught by certified\nprofessionals\, pediatricians\, and doulas and will prepare parents for labor\nand delivery\, breastfeeding\, and newborn safety. This exciting milestone in\nlife is more enriching with a community by your side. Enjoy this experience\ntogether with other Jewish parents as you deepen connections and form lifelong\nfriendships.****Delicious dinner will be provided at each session! \n**Discussion Topics**\n  * Pre-Class Social\n  * Labor & Delivery\n  * Infant Care & Newborn Safety\n  * Lactation\n  * Jewish Life & Ritual\n  * Preparing for 4th Trimester\n  * Celebratory Meal \n**Schedule:**\nTuesday\, August 4 |**6 – 8:30pm**\nTuesday\, August 11****|**6 – 8:30pm**\nTuesday\, August 18 | **6 – 8:30pm**\nTuesday\, August 25|**6 – 8:30pm**\nTuesday\, September 1 | **6 – 8:30pm** \nA pre-social gathering will take place on Sunday\, July 26. \nView event on Jlive: https://jlive.app/events/15452
URL:https://cincyjewfolk.com/event/j-baby-summer-2026-2/
LOCATION:Mayerson JCC 8485 Ridge Ave\, Cincinnati\, Ridge Avenue 8485\, Cincinnati\, Ohio\, 45236\, United States
CATEGORIES:Adults,Educational,Food Provided,Kosher Food,Parenting,Parking (free),Wheelchair Accessible,Young Adults
ATTACH;FMTTYPE=image/jpeg:https://cincyjewfolk.com/wp-content/uploads/sites/2/2026/03/26_JBaby_Spring_JLive_Event_Hero_960600px-z3GwlY.jpg
ORGANIZER;CN="JFamily | Mayerson JCC":MAILTO:mphillips@mayersonjcc.org
GEO:39.2158032;-84.4287563
X-APPLE-STRUCTURED-LOCATION;VALUE=URI;X-ADDRESS=Mayerson JCC 8485 Ridge Ave Cincinnati Ridge Avenue 8485 Cincinnati Ohio 45236 United States;X-APPLE-RADIUS=500;X-TITLE=Ridge Avenue 8485:geo:-84.4287563,39.2158032
END:VEVENT
BEGIN:VEVENT
DTSTART;TZID=America/Detroit:20260818T180000
DTEND;TZID=America/Detroit:20260818T203000
DTSTAMP:20260423T052147
CREATED:20260421T173606Z
LAST-MODIFIED:20260423T092102Z
UID:10003395-1787076000-1787085000@cincyjewfolk.com
SUMMARY:J Baby (Summer 2026)
DESCRIPTION:Join in community with others who are expecting their first child during this\nprenatal series. The program will include courses taught by certified\nprofessionals\, pediatricians\, and doulas and will prepare parents for labor\nand delivery\, breastfeeding\, and newborn safety. This exciting milestone in\nlife is more enriching with a community by your side. Enjoy this experience\ntogether with other Jewish parents as you deepen connections and form lifelong\nfriendships.****Delicious dinner will be provided at each session! \n**Discussion Topics**\n  * Pre-Class Social\n  * Labor & Delivery\n  * Infant Care & Newborn Safety\n  * Lactation\n  * Jewish Life & Ritual\n  * Preparing for 4th Trimester\n  * Celebratory Meal \n**Schedule:**\nTuesday\, August 4 |**6 – 8:30pm**\nTuesday\, August 11****|**6 – 8:30pm**\nTuesday\, August 18 | **6 – 8:30pm**\nTuesday\, August 25|**6 – 8:30pm**\nTuesday\, September 1 | **6 – 8:30pm** \nA pre-social gathering will take place on Sunday\, July 26. \nView event on Jlive: https://jlive.app/events/15452
URL:https://cincyjewfolk.com/event/j-baby-summer-2026-3/
LOCATION:Mayerson JCC 8485 Ridge Ave\, Cincinnati\, Ridge Avenue 8485\, Cincinnati\, Ohio\, 45236\, United States
CATEGORIES:Adults,Educational,Food Provided,Kosher Food,Parenting,Parking (free),Wheelchair Accessible,Young Adults
ATTACH;FMTTYPE=image/jpeg:https://cincyjewfolk.com/wp-content/uploads/sites/2/2026/03/26_JBaby_Spring_JLive_Event_Hero_960600px-z3GwlY.jpg
ORGANIZER;CN="JFamily | Mayerson JCC":MAILTO:mphillips@mayersonjcc.org
GEO:39.2158032;-84.4287563
X-APPLE-STRUCTURED-LOCATION;VALUE=URI;X-ADDRESS=Mayerson JCC 8485 Ridge Ave Cincinnati Ridge Avenue 8485 Cincinnati Ohio 45236 United States;X-APPLE-RADIUS=500;X-TITLE=Ridge Avenue 8485:geo:-84.4287563,39.2158032
END:VEVENT
BEGIN:VEVENT
DTSTART;TZID=America/Detroit:20260825T180000
DTEND;TZID=America/Detroit:20260825T203000
DTSTAMP:20260423T052147
CREATED:20260421T173607Z
LAST-MODIFIED:20260423T092103Z
UID:10003396-1787680800-1787689800@cincyjewfolk.com
SUMMARY:J Baby (Summer 2026)
DESCRIPTION:Join in community with others who are expecting their first child during this\nprenatal series. The program will include courses taught by certified\nprofessionals\, pediatricians\, and doulas and will prepare parents for labor\nand delivery\, breastfeeding\, and newborn safety. This exciting milestone in\nlife is more enriching with a community by your side. Enjoy this experience\ntogether with other Jewish parents as you deepen connections and form lifelong\nfriendships.****Delicious dinner will be provided at each session! \n**Discussion Topics**\n  * Pre-Class Social\n  * Labor & Delivery\n  * Infant Care & Newborn Safety\n  * Lactation\n  * Jewish Life & Ritual\n  * Preparing for 4th Trimester\n  * Celebratory Meal \n**Schedule:**\nTuesday\, August 4 |**6 – 8:30pm**\nTuesday\, August 11****|**6 – 8:30pm**\nTuesday\, August 18 | **6 – 8:30pm**\nTuesday\, August 25|**6 – 8:30pm**\nTuesday\, September 1 | **6 – 8:30pm** \nA pre-social gathering will take place on Sunday\, July 26. \nView event on Jlive: https://jlive.app/events/15452
URL:https://cincyjewfolk.com/event/j-baby-summer-2026-4/
LOCATION:Mayerson JCC 8485 Ridge Ave\, Cincinnati\, Ridge Avenue 8485\, Cincinnati\, Ohio\, 45236\, United States
CATEGORIES:Adults,Educational,Food Provided,Kosher Food,Parenting,Parking (free),Wheelchair Accessible,Young Adults
ATTACH;FMTTYPE=image/jpeg:https://cincyjewfolk.com/wp-content/uploads/sites/2/2026/03/26_JBaby_Spring_JLive_Event_Hero_960600px-z3GwlY.jpg
ORGANIZER;CN="JFamily | Mayerson JCC":MAILTO:mphillips@mayersonjcc.org
GEO:39.2158032;-84.4287563
X-APPLE-STRUCTURED-LOCATION;VALUE=URI;X-ADDRESS=Mayerson JCC 8485 Ridge Ave Cincinnati Ridge Avenue 8485 Cincinnati Ohio 45236 United States;X-APPLE-RADIUS=500;X-TITLE=Ridge Avenue 8485:geo:-84.4287563,39.2158032
END:VEVENT
BEGIN:VEVENT
DTSTART;TZID=America/Detroit:20260901T180000
DTEND;TZID=America/Detroit:20260901T203000
DTSTAMP:20260423T052147
CREATED:20260421T173608Z
LAST-MODIFIED:20260423T092103Z
UID:10003397-1788285600-1788294600@cincyjewfolk.com
SUMMARY:J Baby (Summer 2026)
DESCRIPTION:Join in community with others who are expecting their first child during this\nprenatal series. The program will include courses taught by certified\nprofessionals\, pediatricians\, and doulas and will prepare parents for labor\nand delivery\, breastfeeding\, and newborn safety. This exciting milestone in\nlife is more enriching with a community by your side. Enjoy this experience\ntogether with other Jewish parents as you deepen connections and form lifelong\nfriendships.****Delicious dinner will be provided at each session! \n**Discussion Topics**\n  * Pre-Class Social\n  * Labor & Delivery\n  * Infant Care & Newborn Safety\n  * Lactation\n  * Jewish Life & Ritual\n  * Preparing for 4th Trimester\n  * Celebratory Meal \n**Schedule:**\nTuesday\, August 4 |**6 – 8:30pm**\nTuesday\, August 11****|**6 – 8:30pm**\nTuesday\, August 18 | **6 – 8:30pm**\nTuesday\, August 25|**6 – 8:30pm**\nTuesday\, September 1 | **6 – 8:30pm** \nA pre-social gathering will take place on Sunday\, July 26. \nView event on Jlive: https://jlive.app/events/15452
URL:https://cincyjewfolk.com/event/j-baby-summer-2026-5/
LOCATION:Mayerson JCC 8485 Ridge Ave\, Cincinnati\, Ridge Avenue 8485\, Cincinnati\, Ohio\, 45236\, United States
CATEGORIES:Adults,Educational,Food Provided,Kosher Food,Parenting,Parking (free),Wheelchair Accessible,Young Adults
ATTACH;FMTTYPE=image/jpeg:https://cincyjewfolk.com/wp-content/uploads/sites/2/2026/03/26_JBaby_Spring_JLive_Event_Hero_960600px-z3GwlY.jpg
ORGANIZER;CN="JFamily | Mayerson JCC":MAILTO:mphillips@mayersonjcc.org
GEO:39.2158032;-84.4287563
X-APPLE-STRUCTURED-LOCATION;VALUE=URI;X-ADDRESS=Mayerson JCC 8485 Ridge Ave Cincinnati Ridge Avenue 8485 Cincinnati Ohio 45236 United States;X-APPLE-RADIUS=500;X-TITLE=Ridge Avenue 8485:geo:-84.4287563,39.2158032
END:VEVENT
BEGIN:VEVENT
DTSTART;TZID=America/Detroit:20260904T140000
DTEND;TZID=America/Detroit:20260906T140000
DTSTAMP:20260423T052147
CREATED:20260326T123621Z
LAST-MODIFIED:20260423T092104Z
UID:10003229-1788530400-1788703200@cincyjewfolk.com
SUMMARY:PJ Goes to Camp
DESCRIPTION:We are so excited to welcome you to a special family camp weekend\, PJ Goes to\nCamp! \nThe weekend will begin with a magical\, Jewish-camp-style Shabbat dinner and\nmemorable service held under the stars. Throughout the event\, family campers\ncan enjoy lakefront activities like kayaking\, canoeing\, and tubing. You can\nalso tackle the high ropes course and climbing wall\, choose from a wide\nvariety of sports\, and make Jewish-themed crafts to take home to remember the\nweekend. Family campers will also enjoy campfires with s’mores and Jewish\nstorytelling and will sleep in cabins. At bedtime\, parents can enjoy special\nadult-only programming while supervision is provided for kids in the sleeping\nareas. \nView event on Jlive: https://jlive.app/events/15299
URL:https://cincyjewfolk.com/event/pj-goes-to-camp-2/
LOCATION:4998 Nell Lee Rd 4998 Nell Lee Rd\, Bennington
CATEGORIES:Camp,Coffee,Families,Food Provided,Games,Kids Area,Nature,Outdoors,Vegetarian Friendly
ATTACH;FMTTYPE=image/jpeg:https://cincyjewfolk.com/wp-content/uploads/sites/2/2026/03/26_PJ_Camp_Jlive_Hero_960x600-RBG7Pa.jpg
ORGANIZER;CN="Camp Livingston":MAILTO:info@camplivingston.org
END:VEVENT
END:VCALENDAR