BEGIN:VCALENDAR
VERSION:2.0
PRODID:-//Cincy Jewfolk - ECPv6.15.20//NONSGML v1.0//EN
CALSCALE:GREGORIAN
METHOD:PUBLISH
X-WR-CALNAME:Cincy Jewfolk
X-ORIGINAL-URL:https://cincyjewfolk.com
X-WR-CALDESC:Events for Cincy Jewfolk
REFRESH-INTERVAL;VALUE=DURATION:PT1H
X-Robots-Tag:noindex
X-PUBLISHED-TTL:PT1H
BEGIN:VTIMEZONE
TZID:America/Detroit
BEGIN:DAYLIGHT
TZOFFSETFROM:-0500
TZOFFSETTO:-0400
TZNAME:EDT
DTSTART:20250309T070000
END:DAYLIGHT
BEGIN:STANDARD
TZOFFSETFROM:-0400
TZOFFSETTO:-0500
TZNAME:EST
DTSTART:20251102T060000
END:STANDARD
BEGIN:DAYLIGHT
TZOFFSETFROM:-0500
TZOFFSETTO:-0400
TZNAME:EDT
DTSTART:20260308T070000
END:DAYLIGHT
BEGIN:STANDARD
TZOFFSETFROM:-0400
TZOFFSETTO:-0500
TZNAME:EST
DTSTART:20261101T060000
END:STANDARD
BEGIN:DAYLIGHT
TZOFFSETFROM:-0500
TZOFFSETTO:-0400
TZNAME:EDT
DTSTART:20270314T070000
END:DAYLIGHT
BEGIN:STANDARD
TZOFFSETFROM:-0400
TZOFFSETTO:-0500
TZNAME:EST
DTSTART:20271107T060000
END:STANDARD
END:VTIMEZONE
BEGIN:VEVENT
DTSTART;TZID=America/Detroit:20260514T073000
DTEND;TZID=America/Detroit:20260514T090000
DTSTAMP:20260422T004741
CREATED:20260413T213543Z
LAST-MODIFIED:20260422T043546Z
UID:10003323-1778743800-1778749200@cincyjewfolk.com
SUMMARY:Dr. Ora Pescovitz
DESCRIPTION:Arrival: 7:30-8:00 AM\nProgram: 8:00-9:00 AM \nAs antisemitism continues to challenge institutions of higher learning\, **Ora\nHirsch Pescovitz\, M.D.\, President of Oakland University in Rochester\,\nMichigan** \, offers insights from her experience as a physician and academic\nleader. She will address the challenges of antisemitism on college campuses\nand share her perspectives on fostering civility\, understanding\, and\nrespectful dialogue within academic and community settings. Daniel Rosenthal\,\nPh.D.\, AJC’s Assistant Director of Academic Affairs\, will facilitate the\ndiscussion. AJC Cincinnati Regional Director Justin Kirschner will provide\nintroductory remarks. \nView event on Jlive: https://jlive.app/events/14002
URL:https://cincyjewfolk.com/event/dr-ora-pescovitz/
CATEGORIES:Adults,Advocacy,Antisemitism,Arrival / Check In,Coffee,College Students,Educational,English Speaking,Families,Family,Food Provided,Grandparents,Leadership,Older Adults,Presentation,Wheelchair Accessible,WiFi
ATTACH;FMTTYPE=image/png:https://cincyjewfolk.com/wp-content/uploads/sites/2/2026/04/AJC_Ora_Hirsch_Event-HORHUQ.png
ORGANIZER;CN="American Jewish Committee (AJC) Cincinnati":MAILTO:cincinnati@ajc.org
END:VEVENT
BEGIN:VEVENT
DTSTART;TZID=America/Detroit:20260518T130000
DTEND;TZID=America/Detroit:20260518T140000
DTSTAMP:20260422T004741
CREATED:20260202T185137Z
LAST-MODIFIED:20260422T043552Z
UID:10002843-1779109200-1779112800@cincyjewfolk.com
SUMMARY:Exit Strategy: Navigating Layoffs with Confidence Webinar
DESCRIPTION:Facing a layoff or feeling insecure about your job? Join JVS Careers and\nProject EM’s free webinar\, Exit Strategy: Navigating Layoffs with Confidence.\nLearn how to be prepared and plan your next steps with a practical exit\nstrategy checklist\, including benefits\, finances\, unemployment\, and data\nprotection. \nView event on Jlive: https://jlive.app/events/14512 \nClick here to join the livestream. https://us02web.zoom.us/webinar/register/WN_1q6PVNOsReeH9bqGYiksIA
URL:https://cincyjewfolk.com/event/exit-strategy-navigating-layoffs-with-confidence-webinar-4/
CATEGORIES:Adults,Career,College Students,Educational,English Speaking,Older Adults,Professional Development,Young Adults
ATTACH;FMTTYPE=image/png:https://cincyjewfolk.com/wp-content/uploads/sites/2/2025/04/Exit_Strategy_JLive-wyPWWA.tmp_.png
ORGANIZER;CN="JVS Careers":MAILTO:careerservices@jvscareers.org
END:VEVENT
END:VCALENDAR