BEGIN:VCALENDAR
VERSION:2.0
PRODID:-//Cincy Jewfolk - ECPv6.15.20//NONSGML v1.0//EN
CALSCALE:GREGORIAN
METHOD:PUBLISH
X-ORIGINAL-URL:https://cincyjewfolk.com
X-WR-CALDESC:Events for Cincy Jewfolk
REFRESH-INTERVAL;VALUE=DURATION:PT1H
X-Robots-Tag:noindex
X-PUBLISHED-TTL:PT1H
BEGIN:VTIMEZONE
TZID:America/Detroit
BEGIN:DAYLIGHT
TZOFFSETFROM:-0500
TZOFFSETTO:-0400
TZNAME:EDT
DTSTART:20240310T070000
END:DAYLIGHT
BEGIN:STANDARD
TZOFFSETFROM:-0400
TZOFFSETTO:-0500
TZNAME:EST
DTSTART:20241103T060000
END:STANDARD
BEGIN:DAYLIGHT
TZOFFSETFROM:-0500
TZOFFSETTO:-0400
TZNAME:EDT
DTSTART:20250309T070000
END:DAYLIGHT
BEGIN:STANDARD
TZOFFSETFROM:-0400
TZOFFSETTO:-0500
TZNAME:EST
DTSTART:20251102T060000
END:STANDARD
BEGIN:DAYLIGHT
TZOFFSETFROM:-0500
TZOFFSETTO:-0400
TZNAME:EDT
DTSTART:20260308T070000
END:DAYLIGHT
BEGIN:STANDARD
TZOFFSETFROM:-0400
TZOFFSETTO:-0500
TZNAME:EST
DTSTART:20261101T060000
END:STANDARD
BEGIN:DAYLIGHT
TZOFFSETFROM:-0500
TZOFFSETTO:-0400
TZNAME:EDT
DTSTART:20270314T070000
END:DAYLIGHT
BEGIN:STANDARD
TZOFFSETFROM:-0400
TZOFFSETTO:-0500
TZNAME:EST
DTSTART:20271107T060000
END:STANDARD
END:VTIMEZONE
BEGIN:VEVENT
DTSTART;TZID=America/Detroit:20250820T000000
DTEND;TZID=America/Detroit:20260522T000000
DTSTAMP:20260421T172239
CREATED:20250714T180721Z
LAST-MODIFIED:20260421T212017Z
UID:10001700-1755648000-1779408000@cincyjewfolk.com
SUMMARY:After Crew 25-26 Enrollment Application
DESCRIPTION:After Crew at the J keeps children active and engaged long after the bell\nrings. Kids enjoy fun-filled afternoons with time to do homework and eat a\nsnack. \nThis enrollment application does NOT guarantee your spot for the school year.\nEnrollments are processed on a first-come first served basis. A member of JCC\nstaff will reach out to confirm your application. \nView event on Jlive: https://jlive.app/events/10287
URL:https://cincyjewfolk.com/event/after-crew-25-26-enrollment-application-2/
LOCATION:Mayerson JCC 8485 Ridge Ave\, Cincinnati\, Ridge Avenue 8485\, Cincinnati\, Ohio\, 45236\, United States
CATEGORIES:Camp,Children,Educational,Families,Food Provided,Games,General,Kids Area,Kosher Food,Transportation Available,Wheelchair Accessible,Young Children
ATTACH;FMTTYPE=image/jpeg:https://cincyjewfolk.com/wp-content/uploads/sites/2/2025/05/24_Spring_JliveHero_960600px-cwgEwV.jpg
ORGANIZER;CN="JKids | Mayerson JCC":MAILTO:aftercrew@mayersonjcc.org
GEO:39.2158032;-84.4287563
X-APPLE-STRUCTURED-LOCATION;VALUE=URI;X-ADDRESS=Mayerson JCC 8485 Ridge Ave Cincinnati Ridge Avenue 8485 Cincinnati Ohio 45236 United States;X-APPLE-RADIUS=500;X-TITLE=Ridge Avenue 8485:geo:-84.4287563,39.2158032
END:VEVENT
BEGIN:VEVENT
DTSTART;TZID=America/Detroit:20260423T190000
DTEND;TZID=America/Detroit:20260423T210000
DTSTAMP:20260421T172239
CREATED:20260303T190711Z
LAST-MODIFIED:20260421T212023Z
UID:10003066-1776970800-1776978000@cincyjewfolk.com
SUMMARY:Dinner and Discussion - What role does Marriage play in Judaism?
DESCRIPTION:Have you ever asked yourself what marriage had to do with Judaism? Come\ntogether as we discuss this very topic along with a delightful spread of\npulled beef and other toppings. \nView event on Jlive: https://jlive.app/events/15026
URL:https://cincyjewfolk.com/event/dinner-and-discussion-what-role-does-marriage-play-in-judaism/
LOCATION:Jewish Discovery Center 7587 Central Parke Blvd\, Mason\, Central Parke Boulevard 7587\, Mason\, Ohio\, 45040\, United States
CATEGORIES:Adults,Educational,Family,Food Provided,Jewish Learning,Spirituality,Young Adults
ATTACH;FMTTYPE=image/png:https://cincyjewfolk.com/wp-content/uploads/sites/2/2026/03/DDApril-kS43Iw.png
ORGANIZER;CN="Jewish Discovery Center":MAILTO:rabbimendel@jdiscovery.com
GEO:39.3290277;-84.318059
X-APPLE-STRUCTURED-LOCATION;VALUE=URI;X-ADDRESS=Jewish Discovery Center 7587 Central Parke Blvd Mason Central Parke Boulevard 7587 Mason Ohio 45040 United States;X-APPLE-RADIUS=500;X-TITLE=Central Parke Boulevard 7587:geo:-84.318059,39.3290277
END:VEVENT
BEGIN:VEVENT
DTSTART;TZID=America/Detroit:20260424T130000
DTEND;TZID=America/Detroit:20260424T143000
DTSTAMP:20260421T172240
CREATED:20260203T192218Z
LAST-MODIFIED:20260421T212025Z
UID:10002860-1777035600-1777041000@cincyjewfolk.com
SUMMARY:Peaceful Moments: Self Care and Mindfulness
DESCRIPTION:**_This program is only open to members of the JCC and/or 60 & Better\nCenter._**_  You can learn more about our 60 & Better Center\n_(https://mayersonjcc.org/60-and-better/) _  or contact Melissa\nShrimplin at _513.761.7500 ext. 1218. \nJoin us to explore how self care and mindfulness can support your physical\,\nmental\, and emotional well-being. Learn how to feel more balanced\, improve\nyour mood\, and better care for yourself through activities like mental acuity\nexercises\, body movement\, meditation\, arts and crafts\, and journaling. \nMindfulness practices can help reduce stress\, improve focus\, ease anxiety and\nchronic pain\, and support overall health. With the right techniques\, you can\nexperience lasting benefits such as stronger relationships and better\nmanagement of health conditions. \nView event on Jlive: https://jlive.app/events/14282
URL:https://cincyjewfolk.com/event/peaceful-moments-self-care-and-mindfulness-2/
LOCATION:Mayerson JCC 8485 Ridge Ave\, Cincinnati\, Ridge Avenue 8485\, Cincinnati\, Ohio\, 45236\, United States
CATEGORIES:Aging,Educational,Health & Wellness,Mental Health,Older Adults,Parking (free),Spirituality,Wheelchair Accessible
ATTACH;FMTTYPE=image/jpeg:https://cincyjewfolk.com/wp-content/uploads/sites/2/2026/03/26_60B_Peaceful_Moments_Jlive_Hero_960600px-8qurBH.jpg
ORGANIZER;CN="60 &amp%3B Better | Mayerson JCC":MAILTO:lliner@mayersonjcc.org
GEO:39.2158032;-84.4287563
X-APPLE-STRUCTURED-LOCATION;VALUE=URI;X-ADDRESS=Mayerson JCC 8485 Ridge Ave Cincinnati Ridge Avenue 8485 Cincinnati Ohio 45236 United States;X-APPLE-RADIUS=500;X-TITLE=Ridge Avenue 8485:geo:-84.4287563,39.2158032
END:VEVENT
BEGIN:VEVENT
DTSTART;TZID=America/Detroit:20260424T170000
DTEND;TZID=America/Detroit:20260424T193000
DTSTAMP:20260421T172240
CREATED:20260413T163528Z
LAST-MODIFIED:20260421T212026Z
UID:10003319-1777050000-1777059000@cincyjewfolk.com
SUMMARY:Family Friday
DESCRIPTION:**_Schedule:_**\n**5:00: Drop-In Playtime for Kids (with snacks) and Happy Hour/Appetizers for\nAdults**\n**6:00: Short Shabbat Program with Rabbi Shafrin**\n**6:30: Shabbat Dinner** \nView event on Jlive: https://jlive.app/events/15465
URL:https://cincyjewfolk.com/event/family-friday-4/
LOCATION:Adath Israel Congregation 3201 E Galbraith Rd\, Cincinnati\, East Galbraith Road 3201\, Cincinnati\, Ohio\, 45236\, United States
CATEGORIES:Children,Educational,Families,Family,Food Provided,General,Kids Area,Kosher Food,Parking (free),Teens,Tweens,Wheelchair Accessible,Young Children
ATTACH;FMTTYPE=image/png:https://cincyjewfolk.com/wp-content/uploads/sites/2/2026/04/Family_Friday_JLive_3-d2gwZl.png
ORGANIZER;CN="Adath Israel Congregation":MAILTO:info@adath-israel.org
GEO:39.2094456;-84.4246152
X-APPLE-STRUCTURED-LOCATION;VALUE=URI;X-ADDRESS=Adath Israel Congregation 3201 E Galbraith Rd Cincinnati East Galbraith Road 3201 Cincinnati Ohio 45236 United States;X-APPLE-RADIUS=500;X-TITLE=East Galbraith Road 3201:geo:-84.4246152,39.2094456
END:VEVENT
BEGIN:VEVENT
DTSTART;TZID=America/Detroit:20260426T160000
DTEND;TZID=America/Detroit:20260426T190000
DTSTAMP:20260421T172240
CREATED:20260217T153718Z
LAST-MODIFIED:20260421T212029Z
UID:10002976-1777219200-1777230000@cincyjewfolk.com
SUMMARY:AJC's Leaders for Tomorrow (LFT) Accelerator Program\nEmpowering Jewish Advocacy for Teens & Parents
DESCRIPTION:**AJC’s Leaders for Tomorrow (LFT) Accelerator Program is a Jewish advocacy\nleadership opportunity for local high school students**. Students will engage\nwith one another and the facilitators\, empowering them to be a voice for the\nJewish People. This program equips students with the knowledge\, confidence\,\nand skills to stand up for Israel\, build their Jewish identities\, and combat\nantisemitism. \n**AJC’s Empowered Parents helps parents navigate this unprecedented moment**\nby equipping them with the right knowledge and practice to advocate alongside\nand for their kids at their schools. What makes this program unique is the\nemphasis on practice. You’ll work through realistic scenarios in small groups\,\nrole-playing actual situations parents face: responding to antisemitic\ncomments from other students\, addressing biased curriculum materials\,\nnavigating problematic displays in school\, and talking with your child when\nthey come home upset. You’ll leave with both the confidence and the concrete\ntools to take action. \nThese two sessions will run concurrently but separately\, ensuring that both\nteens and parents are aligned and equipped to navigate these moments of\nuncertainty with effective\, proven advocacy. \nThank you to The Jewish Foundation of Cincinnati for their sponsorship. \nThank you to our partners: Jewish Federation of Cincinnati and Shelanu \nDinner and dessert will be provided\nLocation: Adath Israel Congregation \nView event on Jlive: https://jlive.app/events/13884
URL:https://cincyjewfolk.com/event/ajcs-leaders-for-tomorrow-lft-accelerator-programempowering-jewish-advocacy-for-teens-parents/
LOCATION:Adath Israel Congregation 3201 E Galbraith Rd\, Cincinnati\, East Galbraith Road 3201\, Cincinnati\, Ohio\, 45236\, United States
CATEGORIES:Advocacy,Arrival / Check In,Beverages (non alcoholic),Educational,Family,Food Provided,Kosher Food,Parking (free),Teens,Vegetarian Friendly,Wheelchair Accessible,WiFi
ATTACH;FMTTYPE=image/png:https://cincyjewfolk.com/wp-content/uploads/sites/2/2025/03/LFT_Accelerator-Cincinnati-960x600-GRFX-4602-wK9jqY.tmp_.png
ORGANIZER;CN="American Jewish Committee (AJC) Cincinnati":MAILTO:cincinnati@ajc.org
GEO:39.2094456;-84.4246152
X-APPLE-STRUCTURED-LOCATION;VALUE=URI;X-ADDRESS=Adath Israel Congregation 3201 E Galbraith Rd Cincinnati East Galbraith Road 3201 Cincinnati Ohio 45236 United States;X-APPLE-RADIUS=500;X-TITLE=East Galbraith Road 3201:geo:-84.4246152,39.2094456
END:VEVENT
BEGIN:VEVENT
DTSTART;TZID=America/Detroit:20260429T160000
DTEND;TZID=America/Detroit:20260429T173000
DTSTAMP:20260421T172240
CREATED:20260203T153712Z
LAST-MODIFIED:20260421T212032Z
UID:10002849-1777478400-1777483800@cincyjewfolk.com
SUMMARY:Polarization's Impact On Our World: What Can We Do?
DESCRIPTION:This program is open to all\, not just 60 & Better members. \nAmericans have rarely been as polarized as we are today. We are aware of how\npolarized our country is: Democrats\, Republicans\, and Independents seemingly\nlive in separate and divided worlds. Political disagreements aren’t wrong\, in\nfact\, this is an important part of a healthy democracy. The difference in our\ncurrent situation is that the political divisions are limiting our ability to\nfunction effectively as a country and straining relationships. A Pew Research\nStudy in October 2019 found an overwhelming majority of respondents wanted\nless divisiveness and more cooperation. However\, polarization is not just an\nAmerican problem but it is a worldwide problem. \nJoin us to review eleven key sources that are contributing to polarization.\nThen discover tools and skills to help us overcome this divisiveness and\nbridge the divide. \n_Brought to you in partnership with Braver Angels._ \nView event on Jlive: https://jlive.app/events/14337
URL:https://cincyjewfolk.com/event/polarizations-impact-on-our-world-what-can-we-do/
LOCATION:Mayerson JCC 8485 Ridge Ave\, Cincinnati\, Ridge Avenue 8485\, Cincinnati\, Ohio\, 45236\, United States
CATEGORIES:Adults,Educational,Older Adults,Parking (free),Politics & Current Affairs,Wheelchair Accessible
ATTACH;FMTTYPE=image/jpeg:https://cincyjewfolk.com/wp-content/uploads/sites/2/2026/04/26_60B_Polarizations_Impact_Jlive_Hero_960600px-m3WBwW.jpg
ORGANIZER;CN="60 &amp%3B Better | Mayerson JCC":MAILTO:lliner@mayersonjcc.org
GEO:39.2158032;-84.4287563
X-APPLE-STRUCTURED-LOCATION;VALUE=URI;X-ADDRESS=Mayerson JCC 8485 Ridge Ave Cincinnati Ridge Avenue 8485 Cincinnati Ohio 45236 United States;X-APPLE-RADIUS=500;X-TITLE=Ridge Avenue 8485:geo:-84.4287563,39.2158032
END:VEVENT
END:VCALENDAR