BEGIN:VCALENDAR
VERSION:2.0
PRODID:-//Cincy Jewfolk - ECPv6.15.20//NONSGML v1.0//EN
CALSCALE:GREGORIAN
METHOD:PUBLISH
X-WR-CALNAME:Cincy Jewfolk
X-ORIGINAL-URL:https://cincyjewfolk.com
X-WR-CALDESC:Events for Cincy Jewfolk
REFRESH-INTERVAL;VALUE=DURATION:PT1H
X-Robots-Tag:noindex
X-PUBLISHED-TTL:PT1H
BEGIN:VTIMEZONE
TZID:America/Detroit
BEGIN:DAYLIGHT
TZOFFSETFROM:-0500
TZOFFSETTO:-0400
TZNAME:EDT
DTSTART:20250309T070000
END:DAYLIGHT
BEGIN:STANDARD
TZOFFSETFROM:-0400
TZOFFSETTO:-0500
TZNAME:EST
DTSTART:20251102T060000
END:STANDARD
BEGIN:DAYLIGHT
TZOFFSETFROM:-0500
TZOFFSETTO:-0400
TZNAME:EDT
DTSTART:20260308T070000
END:DAYLIGHT
BEGIN:STANDARD
TZOFFSETFROM:-0400
TZOFFSETTO:-0500
TZNAME:EST
DTSTART:20261101T060000
END:STANDARD
BEGIN:DAYLIGHT
TZOFFSETFROM:-0500
TZOFFSETTO:-0400
TZNAME:EDT
DTSTART:20270314T070000
END:DAYLIGHT
BEGIN:STANDARD
TZOFFSETFROM:-0400
TZOFFSETTO:-0500
TZNAME:EST
DTSTART:20271107T060000
END:STANDARD
END:VTIMEZONE
BEGIN:VEVENT
DTSTART;TZID=America/Detroit:20260819T190000
DTEND;TZID=America/Detroit:20260819T200000
DTSTAMP:20260425T111927
CREATED:20260420T182106Z
LAST-MODIFIED:20260425T145107Z
UID:10003388-1787166000-1787169600@cincyjewfolk.com
SUMMARY:Adapted Total Body Workout (Summer 2026)
DESCRIPTION:_Age 16+_\nThis inclusive adapted workout combines cardio and strength training in a\ncircuit format\, with stretching and yoga for a total body workout.\nParticipants should be able to engage independently or with the help of their\nown direct support professional. \n_The Mayerson JCC Excellence Fund\, The Milton and Frances Schloss Special\nNeeds and Services Fund for Children and Adults\, the Jewish Federation of\nCincinnati\, and The Jewish Foundation of Cincinnati._ \nView event on Jlive: https://jlive.app/events/15502
URL:https://cincyjewfolk.com/event/adapted-total-body-workout-summer-2026-12/
LOCATION:Mayerson JCC 8485 Ridge Ave\, Cincinnati\, Ridge Avenue 8485\, Cincinnati\, Ohio\, 45236\, United States
CATEGORIES:Adults,Disability & Inclusion,Health & Wellness,Older Adults,Parking (free),Sports & Fitness,Teens,Wheelchair Accessible,Young Adults
ATTACH;FMTTYPE=image/jpeg:https://cincyjewfolk.com/wp-content/uploads/sites/2/2025/04/25_Summer_JLive_960x600ph3-hzz2E3.tmp_.jpg
ORGANIZER;CN="JActive | Mayerson JCC":MAILTO:inclusion@mayersonjcc.org
GEO:39.2158032;-84.4287563
X-APPLE-STRUCTURED-LOCATION;VALUE=URI;X-ADDRESS=Mayerson JCC 8485 Ridge Ave Cincinnati Ridge Avenue 8485 Cincinnati Ohio 45236 United States;X-APPLE-RADIUS=500;X-TITLE=Ridge Avenue 8485:geo:-84.4287563,39.2158032
END:VEVENT
END:VCALENDAR