BEGIN:VCALENDAR
VERSION:2.0
PRODID:-//Cincy Jewfolk - ECPv6.15.20//NONSGML v1.0//EN
CALSCALE:GREGORIAN
METHOD:PUBLISH
X-WR-CALNAME:Cincy Jewfolk
X-ORIGINAL-URL:https://cincyjewfolk.com
X-WR-CALDESC:Events for Cincy Jewfolk
REFRESH-INTERVAL;VALUE=DURATION:PT1H
X-Robots-Tag:noindex
X-PUBLISHED-TTL:PT1H
BEGIN:VTIMEZONE
TZID:America/Detroit
BEGIN:DAYLIGHT
TZOFFSETFROM:-0500
TZOFFSETTO:-0400
TZNAME:EDT
DTSTART:20250309T070000
END:DAYLIGHT
BEGIN:STANDARD
TZOFFSETFROM:-0400
TZOFFSETTO:-0500
TZNAME:EST
DTSTART:20251102T060000
END:STANDARD
BEGIN:DAYLIGHT
TZOFFSETFROM:-0500
TZOFFSETTO:-0400
TZNAME:EDT
DTSTART:20260308T070000
END:DAYLIGHT
BEGIN:STANDARD
TZOFFSETFROM:-0400
TZOFFSETTO:-0500
TZNAME:EST
DTSTART:20261101T060000
END:STANDARD
BEGIN:DAYLIGHT
TZOFFSETFROM:-0500
TZOFFSETTO:-0400
TZNAME:EDT
DTSTART:20270314T070000
END:DAYLIGHT
BEGIN:STANDARD
TZOFFSETFROM:-0400
TZOFFSETTO:-0500
TZNAME:EST
DTSTART:20271107T060000
END:STANDARD
END:VTIMEZONE
BEGIN:VEVENT
DTSTART;TZID=America/Detroit:20260106T190000
DTEND;TZID=America/Detroit:20261229T210000
DTSTAMP:20260423T050041
CREATED:20251222T190634Z
LAST-MODIFIED:20260423T085108Z
UID:10002621-1767726000-1798578000@cincyjewfolk.com
SUMMARY:Israeli Dancing 2026
DESCRIPTION:**Tuesdays\, January 6 – December 29 | 7 – 9pm** \nJoin us for Israeli Dancing at the JCC! Lively music\, fun dancing\, and new\nfriends await at this weekly\, free class. This is an informal class where all\nskill levels are welcome. \nView event on Jlive: https://jlive.app/events/13951
URL:https://cincyjewfolk.com/event/israeli-dancing-2026/
LOCATION:Mayerson JCC 8485 Ridge Ave\, Cincinnati\, Ridge Avenue 8485\, Cincinnati\, Ohio\, 45236\, United States
CATEGORIES:All Ages,Arts & Culture,English Speaking,Israel,Jewish Learning,Music,Wheelchair Accessible
ATTACH;FMTTYPE=image/png:https://cincyjewfolk.com/wp-content/uploads/sites/2/2025/06/Jlive_1-Zlv3g7.png
ORGANIZER;CN="Arts &amp%3B Ideas | Mayerson JCC":MAILTO:arts@mayersonjcc.org
GEO:39.2158032;-84.4287563
X-APPLE-STRUCTURED-LOCATION;VALUE=URI;X-ADDRESS=Mayerson JCC 8485 Ridge Ave Cincinnati Ridge Avenue 8485 Cincinnati Ohio 45236 United States;X-APPLE-RADIUS=500;X-TITLE=Ridge Avenue 8485:geo:-84.4287563,39.2158032
END:VEVENT
BEGIN:VEVENT
DTSTART;TZID=America/Detroit:20260313T000000
DTEND;TZID=America/Detroit:20260529T000000
DTSTAMP:20260423T050041
CREATED:20260318T152028Z
LAST-MODIFIED:20260423T085054Z
UID:10003200-1773360000-1780012800@cincyjewfolk.com
SUMMARY:Rainbow Challah Bake Sponsor Registration
DESCRIPTION:The **2026 JCC Rainbow Challah Bake** is a community-wide event\, open to the\npublic for all to enjoy at the Mayerson JCC on**Thursday\, May 28 from 6 –\n8:30pm**! \nYour sponsorship gift will provide support for this meaningful event and help\nthe J provide dinner\, music\, rainbow challah making supplies and more for a\nwelcoming evening of community in a safe family-friendly environment. \nView event on Jlive: https://jlive.app/events/15170
URL:https://cincyjewfolk.com/event/rainbow-challah-bake-sponsor-registration-2/
LOCATION:Mayerson JCC 8485 Ridge Ave\, Cincinnati\, Ridge Avenue 8485\, Cincinnati\, Ohio\, 45236\, United States
CATEGORIES:All Ages,Jewish Holiday,LGBTQI,Parking (free),Shabbat,Wheelchair Accessible
ATTACH;FMTTYPE=image/jpeg:https://cincyjewfolk.com/wp-content/uploads/sites/2/2025/05/24_JLive_960x600ph_RainbowSponsors-s0NGvw.jpg
ORGANIZER;CN="Arts &amp%3B Ideas | Mayerson JCC":MAILTO:arts@mayersonjcc.org
GEO:39.2158032;-84.4287563
X-APPLE-STRUCTURED-LOCATION;VALUE=URI;X-ADDRESS=Mayerson JCC 8485 Ridge Ave Cincinnati Ridge Avenue 8485 Cincinnati Ohio 45236 United States;X-APPLE-RADIUS=500;X-TITLE=Ridge Avenue 8485:geo:-84.4287563,39.2158032
END:VEVENT
BEGIN:VEVENT
DTSTART;TZID=America/Detroit:20260325T000000
DTEND;TZID=America/Detroit:20260830T000000
DTSTAMP:20260423T050041
CREATED:20260331T180535Z
LAST-MODIFIED:20260423T085103Z
UID:10003274-1774396800-1788048000@cincyjewfolk.com
SUMMARY:Fall Market Vendor Form 2026
DESCRIPTION:Join us for the Annual Fall Market! We will have booths with handmade goodies\,\nJudaica\, fresh produce\, food trucks\, and so much more. The community comes out\nto support this wonderful event on Sunday\, August 30 from 10am – 2pm. \n**The cost to reserve a spot is $50.**  Please bring your own tent\, chairs\,\nand table. The cost increases after August 10\, 2026\, so make sure to reserve\nyour place now. Refunds are not available. \nView event on Jlive: https://jlive.app/events/15311
URL:https://cincyjewfolk.com/event/fall-market-vendor-form-2026/
LOCATION:Mayerson JCC 8485 Ridge Ave\, Cincinnati\, Ridge Avenue 8485\, Cincinnati\, Ohio\, 45236\, United States
CATEGORIES:All Ages,Arts & Culture,Outdoors
ATTACH;FMTTYPE=image/jpeg:https://cincyjewfolk.com/wp-content/uploads/sites/2/2025/03/24_JLive_960x600ph11-CKpT6D.tmp_.jpg
ORGANIZER;CN="Arts &amp%3B Ideas | Mayerson JCC":MAILTO:arts@mayersonjcc.org
GEO:39.2158032;-84.4287563
X-APPLE-STRUCTURED-LOCATION;VALUE=URI;X-ADDRESS=Mayerson JCC 8485 Ridge Ave Cincinnati Ridge Avenue 8485 Cincinnati Ohio 45236 United States;X-APPLE-RADIUS=500;X-TITLE=Ridge Avenue 8485:geo:-84.4287563,39.2158032
END:VEVENT
BEGIN:VEVENT
DTSTART;TZID=America/Detroit:20260503T130000
DTEND;TZID=America/Detroit:20260503T150000
DTSTAMP:20260423T050041
CREATED:20260203T203634Z
LAST-MODIFIED:20260423T085034Z
UID:10002863-1777813200-1777820400@cincyjewfolk.com
SUMMARY:JCGC Holocaust Survivor Marker Community Day
DESCRIPTION:Join Jewish Cemeteries in honoring Holocaust Survivors by placing specially\ndesigned markers at the graves of survivors buried in our Montgomery cemetery. \nView event on Jlive: https://jlive.app/events/14541
URL:https://cincyjewfolk.com/event/jcgc-holocaust-survivor-marker-community-day/
LOCATION:7885 Ivygate Ln 7885 Ivygate Ln\, Montgomery
CATEGORIES:All Ages,English Speaking,Holocaust,Holocaust Education,Parking (free)
ATTACH;FMTTYPE=image/png:https://cincyjewfolk.com/wp-content/uploads/sites/2/2026/03/Survivor_Marker_Community_Day_4-xZr9KH.png
ORGANIZER;CN="Jewish Cemeteries of Greater Cincinnati":MAILTO:info@jcemcin.org
END:VEVENT
BEGIN:VEVENT
DTSTART;TZID=America/Detroit:20260511T190000
DTEND;TZID=America/Detroit:20260511T220000
DTSTAMP:20260423T050041
CREATED:20260326T123604Z
LAST-MODIFIED:20260423T085042Z
UID:10003225-1778526000-1778536800@cincyjewfolk.com
SUMMARY:Grateful Together: Honoring One\, Inspiring Many
DESCRIPTION:Temple Sholom is delighted to host this special evening celebrating the\nextraordinary contributions of **Rabbi Dr. Gary P. Zola** —renowned scholar\,\neducator\, and visionary leader—who has profoundly shaped Reform Judaism\,\nadvanced Jewish scholarship\, and strengthened Jewish communal life both\nnationally and within our congregation. \nWe are honored to welcome **Rabbi David Saperstein** \, Ambassador-at-Large for\nInternational Religious Freedom\, as our guest speaker. His insights will make\nthis a truly memorable and meaningful celebration. \n**Event Details**\n  * Date: Thursday\, May 16\, 2026\n  * RSVP by May 1\n  * VIP Reception: 6:00 pm\n  * Program Begins: 7:00 pm\n  * Location: Mayerson JCC \nJoin us for a night of gratitude\, inspiration\, and celebration as we honor\nRabbi Zola’s legacy—this is an event you won’t want to miss! \nView event on Jlive: https://jlive.app/events/15275
URL:https://cincyjewfolk.com/event/grateful-together-honoring-one-inspiring-many/
LOCATION:Mayerson JCC 8485 Ridge Ave\, Cincinnati\, Ridge Avenue 8485\, Cincinnati\, Ohio\, 45236\, United States
CATEGORIES:All Ages,Cocktails and Drinks,Coffee,English Speaking,Food Provided,Parking (free),Special Guest
ATTACH;FMTTYPE=image/png:https://cincyjewfolk.com/wp-content/uploads/sites/2/2026/03/Form_Graphic-VvzuCu.png
ORGANIZER;CN="Temple Sholom":MAILTO:admin@templesholom.net
GEO:39.2158032;-84.4287563
X-APPLE-STRUCTURED-LOCATION;VALUE=URI;X-ADDRESS=Mayerson JCC 8485 Ridge Ave Cincinnati Ridge Avenue 8485 Cincinnati Ohio 45236 United States;X-APPLE-RADIUS=500;X-TITLE=Ridge Avenue 8485:geo:-84.4287563,39.2158032
END:VEVENT
BEGIN:VEVENT
DTSTART;TZID=America/Detroit:20260513T183000
DTEND;TZID=America/Detroit:20260513T200000
DTSTAMP:20260423T050041
CREATED:20260310T202143Z
LAST-MODIFIED:20260423T085044Z
UID:10003131-1778697000-1778702400@cincyjewfolk.com
SUMMARY:The Wizard of Oz\, Youth Edition - Wednesday\, May 13
DESCRIPTION:Before _Wicked\,_ there was _The  Wizard of Oz_\, a classic tale of courage\,\nfriendship and the journey to happiness and self-discovery. Join Dorothy and\nher loyal companion Toto as they “Follow the Yellow Brick Road” through the\nLand of Oz\, determined to reach the Emerald City\, where the great and powerful\nWizard of Oz will help them get home. Of course\, along the way\, Dorothy\nencounters witches (both good and bad)\, Munchkins\, talking trees and winged\nmonkeys. But most importantly\, she befriends three unique characters: a\nScarecrow with no brain\, a Tin Man with no heart\, and a Lion with no “nerve.”\nTheir journey to happiness – and self-awareness – is a glowing testament to\nfriendship\, understanding and hope in a world filled with both beauty and\nugliness. \nReturn to the classic that started it all in this charming production by the\ntalented students of Theatre at the J: Everyone’s a Star. \nCheck out our social narrative about “(https://mayersonjcc.org/wp-content/uploads/2024/12/24_Theatre_What-\nto-Expect.pdf)” \n**Sponsors:**\n_In Loving Memory of Edward Cohen\, Jen & John Stein\, Rick Steiner\nProductions/Steiner Family Foundation\, & Andi Levenson Young & Scott Young_\n _Ohio Arts Council_\n _Jewish Federation of Cincinnati_ \nView event on Jlive: https://jlive.app/events/14800
URL:https://cincyjewfolk.com/event/the-wizard-of-oz-youth-edition-wednesday-may-13/
LOCATION:Mayerson JCC 8485 Ridge Ave\, Cincinnati\, Ridge Avenue 8485\, Cincinnati\, Ohio\, 45236\, United States
CATEGORIES:All Ages,Arts & Culture,General,Music,Parking (free),Wheelchair Accessible
ATTACH;FMTTYPE=image/jpeg:https://cincyjewfolk.com/wp-content/uploads/sites/2/2026/03/26_Theatre_Wizard_of_Oz_JLive_960x600p_May13-Kq9FM4.jpg
ORGANIZER;CN="Arts &amp%3B Ideas | Mayerson JCC":MAILTO:arts@mayersonjcc.org
GEO:39.2158032;-84.4287563
X-APPLE-STRUCTURED-LOCATION;VALUE=URI;X-ADDRESS=Mayerson JCC 8485 Ridge Ave Cincinnati Ridge Avenue 8485 Cincinnati Ohio 45236 United States;X-APPLE-RADIUS=500;X-TITLE=Ridge Avenue 8485:geo:-84.4287563,39.2158032
END:VEVENT
BEGIN:VEVENT
DTSTART;TZID=America/Detroit:20260514T183000
DTEND;TZID=America/Detroit:20260514T200000
DTSTAMP:20260423T050041
CREATED:20260310T202146Z
LAST-MODIFIED:20260423T085045Z
UID:10003133-1778783400-1778788800@cincyjewfolk.com
SUMMARY:The Wizard of Oz\, Youth Edition - Thursday\, May 14
DESCRIPTION:Before _Wicked\,_ there was _The  Wizard of Oz_\, a classic tale of courage\,\nfriendship and the journey to happiness and self-discovery. Join Dorothy and\nher loyal companion Toto as they “Follow the Yellow Brick Road” through the\nLand of Oz\, determined to reach the Emerald City\, where the great and powerful\nWizard of Oz will help them get home. Of course\, along the way\, Dorothy\nencounters witches (both good and bad)\, Munchkins\, talking trees and winged\nmonkeys. But most importantly\, she befriends three unique characters: a\nScarecrow with no brain\, a Tin Man with no heart\, and a Lion with no “nerve.”\nTheir journey to happiness – and self-awareness – is a glowing testament to\nfriendship\, understanding and hope in a world filled with both beauty and\nugliness. \nReturn to the classic that started it all in this charming production by the\ntalented students of Theatre at the J: Everyone’s a Star. \nCheck out our social narrative about “(https://mayersonjcc.org/wp-content/uploads/2024/12/24_Theatre_What-\nto-Expect.pdf)” \n**Sponsors:**\n_In Loving Memory of Edward Cohen\, Jen & John Stein\, Rick Steiner\nProductions/Steiner Family Foundation\, & Andi Levenson Young & Scott Young_\n _Ohio Arts Council_\n _Jewish Federation of Cincinnati_ \nView event on Jlive: https://jlive.app/events/14801
URL:https://cincyjewfolk.com/event/the-wizard-of-oz-youth-edition-thursday-may-14/
LOCATION:Mayerson JCC 8485 Ridge Ave\, Cincinnati\, Ridge Avenue 8485\, Cincinnati\, Ohio\, 45236\, United States
CATEGORIES:All Ages,Arts & Culture,General,Music,Parking (free),Wheelchair Accessible
ATTACH;FMTTYPE=image/jpeg:https://cincyjewfolk.com/wp-content/uploads/sites/2/2026/03/26_Theatre_Wizard_of_Oz_JLive_960x600p_May14-oJyqJu.jpg
ORGANIZER;CN="Arts &amp%3B Ideas | Mayerson JCC":MAILTO:arts@mayersonjcc.org
GEO:39.2158032;-84.4287563
X-APPLE-STRUCTURED-LOCATION;VALUE=URI;X-ADDRESS=Mayerson JCC 8485 Ridge Ave Cincinnati Ridge Avenue 8485 Cincinnati Ohio 45236 United States;X-APPLE-RADIUS=500;X-TITLE=Ridge Avenue 8485:geo:-84.4287563,39.2158032
END:VEVENT
BEGIN:VEVENT
DTSTART;TZID=America/Detroit:20260517T140000
DTEND;TZID=America/Detroit:20260517T153000
DTSTAMP:20260423T050041
CREATED:20260310T202148Z
LAST-MODIFIED:20260423T085049Z
UID:10003134-1779026400-1779031800@cincyjewfolk.com
SUMMARY:The Wizard of Oz\, Youth Edition - Sunday\, May 17
DESCRIPTION:**Live captioning will be available for this performance.** \nBefore _Wicked\,_ there was _The  Wizard of Oz_\, a classic tale of courage\,\nfriendship and the journey to happiness and self-discovery. Join Dorothy and\nher loyal companion Toto as they “Follow the Yellow Brick Road” through the\nLand of Oz\, determined to reach the Emerald City\, where the great and powerful\nWizard of Oz will help them get home. Of course\, along the way\, Dorothy\nencounters witches (both good and bad)\, Munchkins\, talking trees and winged\nmonkeys. But most importantly\, she befriends three unique characters: a\nScarecrow with no brain\, a Tin Man with no heart\, and a Lion with no “nerve.”\nTheir journey to happiness – and self-awareness – is a glowing testament to\nfriendship\, understanding and hope in a world filled with both beauty and\nugliness. \nReturn to the classic that started it all in this charming production by the\ntalented students of Theatre at the J: Everyone’s a Star. \nCheck out our social narrative about “(https://mayersonjcc.org/wp-content/uploads/2024/12/24_Theatre_What-\nto-Expect.pdf)” \n**Sponsors:**\n_In Loving Memory of Edward Cohen\, Jen & John Stein\, Rick Steiner\nProductions/Steiner Family Foundation\, & Andi Levenson Young & Scott Young_\n _Ohio Arts Council_\n _Jewish Federation of Cincinnati_ \nView event on Jlive: https://jlive.app/events/14802
URL:https://cincyjewfolk.com/event/the-wizard-of-oz-youth-edition-sunday-may-17/
LOCATION:Mayerson JCC 8485 Ridge Ave\, Cincinnati\, Ridge Avenue 8485\, Cincinnati\, Ohio\, 45236\, United States
CATEGORIES:All Ages,Arts & Culture,General,Music,Parking (free),Wheelchair Accessible
ATTACH;FMTTYPE=image/jpeg:https://cincyjewfolk.com/wp-content/uploads/sites/2/2026/03/26_Theatre_Wizard_of_Oz_JLive_960x600p_May17-Q7GjPr.jpg
ORGANIZER;CN="Arts &amp%3B Ideas | Mayerson JCC":MAILTO:arts@mayersonjcc.org
GEO:39.2158032;-84.4287563
X-APPLE-STRUCTURED-LOCATION;VALUE=URI;X-ADDRESS=Mayerson JCC 8485 Ridge Ave Cincinnati Ridge Avenue 8485 Cincinnati Ohio 45236 United States;X-APPLE-RADIUS=500;X-TITLE=Ridge Avenue 8485:geo:-84.4287563,39.2158032
END:VEVENT
BEGIN:VEVENT
DTSTART;TZID=America/Detroit:20260522T000000
DTEND;TZID=America/Detroit:20260524T000000
DTSTAMP:20260423T050041
CREATED:20251117T225116Z
LAST-MODIFIED:20260423T085052Z
UID:10002393-1779408000-1779580800@cincyjewfolk.com
SUMMARY:Camp Livingston Family Camp
DESCRIPTION:We are so excited to welcome you to Camp! \nThe weekend will begin with an exciting camp-style Shabbat dinner and\nmemorable service held under the stars. Throughout the event\, family campers\ncan enjoy lakefront activities like waterskiing\, kayaking\, canoeing\, and\ntubing. You can also tackle the high ropes course and climbing wall\, choose\nfrom a wide variety of sports\, and make crafts to take home to remember the\nweekend. Family campers will also enjoy campfires and sleep in cabins.\nProgramming is accessible for kids of all ages. At bedtime\, parents can enjoy\nspecial adult only programming while supervision is provided for the kids in\nthe sleeping areas. \nView event on Jlive: https://jlive.app/events/13640
URL:https://cincyjewfolk.com/event/camp-livingston-family-camp/
LOCATION:Camp Livingston 4998 Nell Lee Rd\, Bennington\, Nell Lee Road 4998\, Bennington\, Indiana\, 47011\, United States
CATEGORIES:All Ages,Coffee,Educational,Food Provided,Games,Kids Area,Nature,Outdoors,Vegetarian Friendly
ATTACH;FMTTYPE=image/png:https://cincyjewfolk.com/wp-content/uploads/sites/2/2025/11/JLive_Family_Camp_Spring_2-dhp9Ec.png
ORGANIZER;CN="Camp Livingston":MAILTO:info@camplivingston.org
GEO:38.8502345;-85.1116044
X-APPLE-STRUCTURED-LOCATION;VALUE=URI;X-ADDRESS=Camp Livingston 4998 Nell Lee Rd Bennington Nell Lee Road 4998 Bennington Indiana 47011 United States;X-APPLE-RADIUS=500;X-TITLE=Nell Lee Road 4998:geo:-85.1116044,38.8502345
END:VEVENT
BEGIN:VEVENT
DTSTART;TZID=America/Detroit:20260522T173000
DTEND;TZID=America/Detroit:20260522T203000
DTSTAMP:20260423T050041
CREATED:20260422T190550Z
LAST-MODIFIED:20260423T085055Z
UID:10003402-1779471000-1779481800@cincyjewfolk.com
SUMMARY:Dairy Shabbat
DESCRIPTION:Join us for a delicious Dairy Friday Night Dinner! Features a full children’s\nprogram and entertainment\, and a prize for every child. Listen in to the Ten\nCommandments! In partnership with Friday Night Shabbat. \nView event on Jlive: https://jlive.app/events/15611
URL:https://cincyjewfolk.com/event/dairy-shabbat/
LOCATION:Jewish Discovery Center 7587 Central Parke Blvd\, Mason\, Central Parke Boulevard 7587\, Mason\, Ohio\, 45040\, United States
CATEGORIES:All Ages,Arcade Games,Food Provided,Jewish Holiday,Shabbat
ATTACH;FMTTYPE=image/png:https://cincyjewfolk.com/wp-content/uploads/sites/2/2026/04/JLive_Dairy-shXQ9L.png
ORGANIZER;CN="Jewish Discovery Center":MAILTO:rabbimendel@jdiscovery.com
GEO:39.3290277;-84.318059
X-APPLE-STRUCTURED-LOCATION;VALUE=URI;X-ADDRESS=Jewish Discovery Center 7587 Central Parke Blvd Mason Central Parke Boulevard 7587 Mason Ohio 45040 United States;X-APPLE-RADIUS=500;X-TITLE=Central Parke Boulevard 7587:geo:-84.318059,39.3290277
END:VEVENT
END:VCALENDAR